BEGIN:VCALENDAR
VERSION:2.0
PRODID:-// - ECPv6.2.8.1//NONSGML v1.0//EN
CALSCALE:GREGORIAN
METHOD:PUBLISH
X-ORIGINAL-URL:https://nord-pas-de-calais.1000pattes.guide
X-WR-CALDESC:évènements pour 
REFRESH-INTERVAL;VALUE=DURATION:PT1H
X-Robots-Tag:noindex
X-PUBLISHED-TTL:PT1H
BEGIN:VTIMEZONE
TZID:Europe/Paris
BEGIN:DAYLIGHT
TZOFFSETFROM:+0100
TZOFFSETTO:+0200
TZNAME:CEST
DTSTART:20260329T010000
END:DAYLIGHT
BEGIN:STANDARD
TZOFFSETFROM:+0200
TZOFFSETTO:+0100
TZNAME:CET
DTSTART:20261025T010000
END:STANDARD
END:VTIMEZONE
BEGIN:VEVENT
DTSTART;TZID=Europe/Paris:20260607T100000
DTEND;TZID=Europe/Paris:20260607T100000
DTSTAMP:20260423T073453
CREATED:20230110T172907Z
LAST-MODIFIED:20251228T111410Z
UID:10001784-1780826400-1780826400@nord-pas-de-calais.1000pattes.guide
SUMMARY:Wim’run - Wimereux (62)
DESCRIPTION:9h15 et 9h25 : courses jeunes. 10h : 5 km et 10 km. \nRendez-vous au quai Hazebrouck. \nVestiaires\, douches\, buvette\, restauration. Challenge du Pays du Boulonnais. \nInscription sur adeorun via facebook.com/Wimereuxrunningclub/ et uniquement sur place pour les enfants. \nContact : Loïc Cheuva\, 06 63 24 72 12\, info@wim-run.com
URL:https://nord-pas-de-calais.1000pattes.guide/event/wimrun/
LOCATION:Wim’run\, Wimereux\, France
CATEGORIES:Course sur route,Courses de jeunes
END:VEVENT
END:VCALENDAR