BEGIN:VCALENDAR
VERSION:2.0
PRODID:-// - ECPv6.2.8.1//NONSGML v1.0//EN
CALSCALE:GREGORIAN
METHOD:PUBLISH
X-ORIGINAL-URL:https://nord-pas-de-calais.1000pattes.guide
X-WR-CALDESC:évènements pour 
REFRESH-INTERVAL;VALUE=DURATION:PT1H
X-Robots-Tag:noindex
X-PUBLISHED-TTL:PT1H
BEGIN:VTIMEZONE
TZID:Europe/Paris
BEGIN:DAYLIGHT
TZOFFSETFROM:+0100
TZOFFSETTO:+0200
TZNAME:CEST
DTSTART:20260329T010000
END:DAYLIGHT
BEGIN:STANDARD
TZOFFSETFROM:+0200
TZOFFSETTO:+0100
TZNAME:CET
DTSTART:20261025T010000
END:STANDARD
END:VTIMEZONE
BEGIN:VEVENT
DTSTART;TZID=Europe/Paris:20260125T090000
DTEND;TZID=Europe/Paris:20260125T090000
DTSTAMP:20260423T103621
CREATED:20230103T194706Z
LAST-MODIFIED:20260122T125655Z
UID:10001612-1769331600-1769331600@nord-pas-de-calais.1000pattes.guide
SUMMARY:Trail du plateau - Grévillers (62)
DESCRIPTION:Marche de 9 ou 14 km dès 8h. 9h : 19 km\, 300 m D+. 9h15 : 8\,8 km. A travers le Pas-de-Calais et le Somme. 10e édition festive. \nVestiaires\, consignes\, petite restauration\, buvette. Médaille. \nInscription limitées à 500 places sur njuko.net et sur place (samedi après-midi et dimanche) \nContact : association Courir à Baupaume\, Damien courirabapaume@gmail.com\, 06 45 28 89 01
URL:https://nord-pas-de-calais.1000pattes.guide/event/trail-du-plateau-de-grevillers/
LOCATION:Trail du plateau\, Grévillers\, France
CATEGORIES:Caritatif,Courses de jeunes,Marche nordique et randonnée,Médaille,Trail et course nature
END:VEVENT
END:VCALENDAR