BEGIN:VCALENDAR
VERSION:2.0
PRODID:-// - ECPv6.2.8.1//NONSGML v1.0//EN
CALSCALE:GREGORIAN
METHOD:PUBLISH
X-ORIGINAL-URL:https://nord-pas-de-calais.1000pattes.guide
X-WR-CALDESC:évènements pour 
REFRESH-INTERVAL;VALUE=DURATION:PT1H
X-Robots-Tag:noindex
X-PUBLISHED-TTL:PT1H
BEGIN:VTIMEZONE
TZID:Europe/Paris
BEGIN:DAYLIGHT
TZOFFSETFROM:+0100
TZOFFSETTO:+0200
TZNAME:CEST
DTSTART:20260329T010000
END:DAYLIGHT
BEGIN:STANDARD
TZOFFSETFROM:+0200
TZOFFSETTO:+0100
TZNAME:CET
DTSTART:20261025T010000
END:STANDARD
END:VTIMEZONE
BEGIN:VEVENT
DTSTART;TZID=Europe/Paris:20260830T090000
DTEND;TZID=Europe/Paris:20260830T090000
DTSTAMP:20260423T040600
CREATED:20240226T181609Z
LAST-MODIFIED:20251230T094725Z
UID:10002592-1788080400-1788080400@nord-pas-de-calais.1000pattes.guide
SUMMARY:Lespesses’oif - Lespesses (62)
DESCRIPTION:Départ déguisé\, dégustations et animations musicales sur un parcours de 10 ou 15 km en boucles à 9h. Non chronométré. Passage par la mairie\, les écuries… RV rue de l’Ecole à la salle des fêtes\, au hameau de Fauquenhem. \nConsignes\, restauration\, buvette.  \nInscription sur asport timing et via http://lespesses62.fr/ \nContact : 06 12 21 18 53\, atraverslespesses@gmail.com
URL:https://nord-pas-de-calais.1000pattes.guide/event/lespessesoif-lespesses-62/
LOCATION:Lespesses’oif\, Lespesses\, France
CATEGORIES:Marche nordique et randonnée,Trail et course nature
END:VEVENT
END:VCALENDAR