BEGIN:VCALENDAR
VERSION:2.0
PRODID:-// - ECPv6.2.8.1//NONSGML v1.0//EN
CALSCALE:GREGORIAN
METHOD:PUBLISH
X-ORIGINAL-URL:https://nord-pas-de-calais.1000pattes.guide
X-WR-CALDESC:évènements pour 
REFRESH-INTERVAL;VALUE=DURATION:PT1H
X-Robots-Tag:noindex
X-PUBLISHED-TTL:PT1H
BEGIN:VTIMEZONE
TZID:UTC
BEGIN:STANDARD
TZOFFSETFROM:+0000
TZOFFSETTO:+0000
TZNAME:UTC
DTSTART:20250101T000000
END:STANDARD
END:VTIMEZONE
BEGIN:VEVENT
DTSTART;TZID=UTC:20250615T100000
DTEND;TZID=UTC:20250615T100000
DTSTAMP:20260419T172201
CREATED:20240125T202102Z
LAST-MODIFIED:20250105T161524Z
UID:10002385-1749981600-1749981600@nord-pas-de-calais.1000pattes.guide
SUMMARY:Les Foulées de la Lys - Rincq (62)
DESCRIPTION:Départ de la marche entre 8h et 9h30. Courses des enfants à partir de 9h. 5 km à 10 h et du 10 km à 10 h 45.   \nBuvette. \nInscription sur place et sur helloasso via la page Facebook de la course.\nContact : 06 27 79 10 09\, fabienhernout@hotmail.fr
URL:https://nord-pas-de-calais.1000pattes.guide/event/les-foulees-de-la-lys-rincq-62/
LOCATION:Les Foulées de la Lys\, Aire-sur-la-Lys\, France
CATEGORIES:Course sur route,Courses de jeunes,Marche nordique et randonnée
END:VEVENT
END:VCALENDAR