BEGIN:VCALENDAR
VERSION:2.0
PRODID:-// - ECPv6.2.8.1//NONSGML v1.0//EN
CALSCALE:GREGORIAN
METHOD:PUBLISH
X-ORIGINAL-URL:https://nord-pas-de-calais.1000pattes.guide
X-WR-CALDESC:évènements pour 
REFRESH-INTERVAL;VALUE=DURATION:PT1H
X-Robots-Tag:noindex
X-PUBLISHED-TTL:PT1H
BEGIN:VTIMEZONE
TZID:UTC
BEGIN:STANDARD
TZOFFSETFROM:+0000
TZOFFSETTO:+0000
TZNAME:UTC
DTSTART:20260101T000000
END:STANDARD
END:VTIMEZONE
BEGIN:VEVENT
DTSTART;TZID=UTC:20260308T090000
DTEND;TZID=UTC:20260308T090000
DTSTAMP:20260423T090933
CREATED:20231209T222734Z
LAST-MODIFIED:20251011T212343Z
UID:10002263-1772960400-1772960400@nord-pas-de-calais.1000pattes.guide
SUMMARY:L’Ercies run -  Jurbise (Be)
DESCRIPTION:Rendez-vous à l’école communale 4\, rue de Baudour à Herchies (Jurbise). \n9h : marche (5\,8 ou 10\,4 km). 9h50 : canicross. 10h : course (5\,8 ou 10\,4 km). 10h10 : enfants.  \nInscription sur chronolap.net \nContact : 0499/15.54.06\, erciesrun@gmail.com
URL:https://nord-pas-de-calais.1000pattes.guide/event/lercies-run-jurbise-be/
LOCATION:L’Ercies run\, Jurbise\, Belgique
CATEGORIES:Course sur route
END:VEVENT
END:VCALENDAR