BEGIN:VCALENDAR
VERSION:2.0
PRODID:-// - ECPv6.2.8.1//NONSGML v1.0//EN
CALSCALE:GREGORIAN
METHOD:PUBLISH
X-ORIGINAL-URL:https://nord-pas-de-calais.1000pattes.guide
X-WR-CALDESC:évènements pour 
REFRESH-INTERVAL;VALUE=DURATION:PT1H
X-Robots-Tag:noindex
X-PUBLISHED-TTL:PT1H
BEGIN:VTIMEZONE
TZID:Europe/Paris
BEGIN:DAYLIGHT
TZOFFSETFROM:+0100
TZOFFSETTO:+0200
TZNAME:CEST
DTSTART:20260329T010000
END:DAYLIGHT
BEGIN:STANDARD
TZOFFSETFROM:+0200
TZOFFSETTO:+0100
TZNAME:CET
DTSTART:20261025T010000
END:STANDARD
END:VTIMEZONE
BEGIN:VEVENT
DTSTART;TZID=Europe/Paris:20260328T143000
DTEND;TZID=Europe/Paris:20260328T143000
DTSTAMP:20260423T091354
CREATED:20240324T215841Z
LAST-MODIFIED:20251228T153134Z
UID:10002598-1774708200-1774708200@nord-pas-de-calais.1000pattes.guide
SUMMARY:Journée de l'autisme - Campagne-les-Hesdin (62)
DESCRIPTION:9h: 25 km et 36 km marche. A partir de 10h : parcours ateliers pour les enfants. Départs libres à partir de 13h : 4 km (PMR) 8 km et 12 km marche; trail: 8 km\, 12 km et 25 km; VTT\, 25 km et 36 km et 50 km. Un départ groupé est proposé à 14h30. \nRendez-vous salle de sports\, rue de Gouy. Organisé par la Team Nature Training by 7 vallées. Animations musicales et concert par les personnes en situation de handicap du foyer \nVictor Morel. \nJoëlettes et bécassines autorisées sur les parcours. \nRestauration\, buvette\, vestiaires\, douche. \nInscription sur place à partir de 8h\, et avant sur prolive et via la page Facebook de la Team Nature Training by 7 vallées. \nContact :  06 29 96 50 87
URL:https://nord-pas-de-calais.1000pattes.guide/event/journee-de-lautisme-campagne-les-hesdin-62/
LOCATION:Journée de l’autisme\, Campagne-les-Hesdin\, France
CATEGORIES:Caritatif,Marche nordique et randonnée,Trail et course nature
ATTACH;FMTTYPE=image/png:https://nord-pas-de-calais.1000pattes.guide/wp-content/uploads/sites/3/2024/03/Capture-decran-2025-11-30-a-22.11.13.png
END:VEVENT
END:VCALENDAR