BEGIN:VCALENDAR
VERSION:2.0
PRODID:-// - ECPv6.2.8.1//NONSGML v1.0//EN
CALSCALE:GREGORIAN
METHOD:PUBLISH
X-ORIGINAL-URL:https://nord-pas-de-calais.1000pattes.guide
X-WR-CALDESC:évènements pour 
REFRESH-INTERVAL;VALUE=DURATION:PT1H
X-Robots-Tag:noindex
X-PUBLISHED-TTL:PT1H
BEGIN:VTIMEZONE
TZID:Europe/Paris
BEGIN:DAYLIGHT
TZOFFSETFROM:+0100
TZOFFSETTO:+0200
TZNAME:CEST
DTSTART:20260329T010000
END:DAYLIGHT
BEGIN:STANDARD
TZOFFSETFROM:+0200
TZOFFSETTO:+0100
TZNAME:CET
DTSTART:20261025T010000
END:STANDARD
END:VTIMEZONE
BEGIN:VEVENT
DTSTART;TZID=Europe/Paris:20260403T120000
DTEND;TZID=Europe/Paris:20260403T120000
DTSTAMP:20260423T055925
CREATED:20230104T225147Z
LAST-MODIFIED:20251012T054537Z
UID:10001651-1775217600-1775217600@nord-pas-de-calais.1000pattes.guide
SUMMARY:Infinity trail french Backyard - Noyelles-sous-Lens (62)
DESCRIPTION:Créé par Lazarus Lake\, l’organisateur de la Barkley\, le principe est très simple : réaliser une boucle de 6\,706 km en une heure. Le départ sera donné toutes les heures à partir de 12 heures. Est déclaré vainqueur la dernière personne à avoir réussi une boucle complète. Limité à 300 personnes (âge min : 18 ans). Et cela dure souvent plusieurs jours… \nEvénement complet. \nInscriptions : https://infinitytrail.fr \n  \n 
URL:https://nord-pas-de-calais.1000pattes.guide/event/infinity-trail-french-backyard/
LOCATION:Infinity trail french Backyard\, Noyelles-sous-Lens (62)\, France
CATEGORIES:Trail et course nature
END:VEVENT
END:VCALENDAR