BEGIN:VCALENDAR
VERSION:2.0
PRODID:-// - ECPv6.2.8.1//NONSGML v1.0//EN
CALSCALE:GREGORIAN
METHOD:PUBLISH
X-ORIGINAL-URL:https://nord-pas-de-calais.1000pattes.guide
X-WR-CALDESC:évènements pour 
REFRESH-INTERVAL;VALUE=DURATION:PT1H
X-Robots-Tag:noindex
X-PUBLISHED-TTL:PT1H
BEGIN:VTIMEZONE
TZID:Europe/Paris
BEGIN:DAYLIGHT
TZOFFSETFROM:+0100
TZOFFSETTO:+0200
TZNAME:CEST
DTSTART:20260329T010000
END:DAYLIGHT
BEGIN:STANDARD
TZOFFSETFROM:+0200
TZOFFSETTO:+0100
TZNAME:CET
DTSTART:20261025T010000
END:STANDARD
END:VTIMEZONE
BEGIN:VEVENT
DTSTART;TZID=Europe/Paris:20260830T080000
DTEND;TZID=Europe/Paris:20260830T080000
DTSTAMP:20260423T023320
CREATED:20251230T093742Z
LAST-MODIFIED:20251230T093742Z
UID:10002922-1788076800-1788076800@nord-pas-de-calais.1000pattes.guide
SUMMARY:Boslandtrail - Nationaal Park Bosland (Be)
DESCRIPTION:Marche : 12 km (samedi\, 10h30) \, 25 km (samedi\, 9h)\, 50 km (samedi\, 7h)\, 100 km (vendredi\, 19h). Dimanche : courses de 10\,5 km (10h30)\, 25 km (10h)\, 32 km (9h) ou 50 km (8h)\, enfants (14h) \nInscription : keeponrunning.be et sur place. \nContact : events@keeponrunning.be
URL:https://nord-pas-de-calais.1000pattes.guide/event/boslandtrail-nationaal-park-bosland-be/
LOCATION:Boslandtrail\, Hechtel-Eksel\, Belgique
CATEGORIES:Courses de jeunes,Marche nordique et randonnée,Trail et course nature
END:VEVENT
END:VCALENDAR