BEGIN:VCALENDAR
VERSION:2.0
PRODID:-// - ECPv6.2.8.1//NONSGML v1.0//EN
CALSCALE:GREGORIAN
METHOD:PUBLISH
X-ORIGINAL-URL:https://nord-pas-de-calais.1000pattes.guide
X-WR-CALDESC:évènements pour 
REFRESH-INTERVAL;VALUE=DURATION:PT1H
X-Robots-Tag:noindex
X-PUBLISHED-TTL:PT1H
BEGIN:VTIMEZONE
TZID:Europe/Paris
BEGIN:DAYLIGHT
TZOFFSETFROM:+0100
TZOFFSETTO:+0200
TZNAME:CEST
DTSTART:20250330T010000
END:DAYLIGHT
BEGIN:STANDARD
TZOFFSETFROM:+0200
TZOFFSETTO:+0100
TZNAME:CET
DTSTART:20251026T010000
END:STANDARD
END:VTIMEZONE
BEGIN:VEVENT
DTSTART;TZID=Europe/Paris:20250614T153000
DTEND;TZID=Europe/Paris:20250614T153000
DTSTAMP:20260419T140143
CREATED:20250326T074148Z
LAST-MODIFIED:20250326T074148Z
UID:10002781-1749915000-1749915000@nord-pas-de-calais.1000pattes.guide
SUMMARY:Belle Colorun - Bailleul (59)
DESCRIPTION:15h : Color run en marche de 3\,7 km \n15h30 : Color run en course de 5 km \nRendez-vous au parc Legrand Grubbe \nAnimations toute la journée à partir de 11h. Restauration. \nInscription : https://www.helloasso.com/associations/association-comite-animation-bailleulois/evenements/belle-colorun
URL:https://nord-pas-de-calais.1000pattes.guide/event/belle-colorun-bailleul-59/
LOCATION:Belle Colorun\, Bailleul
CATEGORIES:Course de couleur
END:VEVENT
END:VCALENDAR