BEGIN:VCALENDAR
VERSION:2.0
PRODID:-// - ECPv6.2.8.1//NONSGML v1.0//EN
CALSCALE:GREGORIAN
METHOD:PUBLISH
X-ORIGINAL-URL:https://nord-pas-de-calais.1000pattes.guide
X-WR-CALDESC:évènements pour 
REFRESH-INTERVAL;VALUE=DURATION:PT1H
X-Robots-Tag:noindex
X-PUBLISHED-TTL:PT1H
BEGIN:VTIMEZONE
TZID:Europe/Paris
BEGIN:DAYLIGHT
TZOFFSETFROM:+0100
TZOFFSETTO:+0200
TZNAME:CEST
DTSTART:20250330T010000
END:DAYLIGHT
BEGIN:STANDARD
TZOFFSETFROM:+0200
TZOFFSETTO:+0100
TZNAME:CET
DTSTART:20251026T010000
END:STANDARD
END:VTIMEZONE
BEGIN:VEVENT
DTSTART;TZID=Europe/Paris:20250614T140000
DTEND;TZID=Europe/Paris:20250614T140000
DTSTAMP:20260423T172553
CREATED:20250609T094316Z
LAST-MODIFIED:20250609T094326Z
UID:10002797-1749909600-1749909600@nord-pas-de-calais.1000pattes.guide
SUMMARY:Aquathlon de Gravelines (59)
DESCRIPTION:Toutes catégories à partir des benjamins. \n14h00  ​ Benjamines & Minimes Filles :  500m /  2\,5km14h30  Benjamins & Minimes Garçons :  500m /  2\,5km15h20  Cadettes & Juniors Filles :  1000m /  5km16h20  Cadets et Juniors Garçons :  1000m /  5km17h20  Séniors & Masters :  1000m /  5km \nRendez-vous au parc des Rives de l’AA. \nInscriptions : https://in.inscriptions-tiel.com/aquathlon-de-gravelines-20251748355117471?currentPage=select-competition
URL:https://nord-pas-de-calais.1000pattes.guide/event/aquathlon-de-gravelines-59/
LOCATION:Aquathlon de Gravelines\, gravelines\, France
CATEGORIES:Aquathlon
END:VEVENT
END:VCALENDAR