BEGIN:VCALENDAR
VERSION:2.0
PRODID:-// - ECPv6.2.8.1//NONSGML v1.0//EN
CALSCALE:GREGORIAN
METHOD:PUBLISH
X-ORIGINAL-URL:https://nord-pas-de-calais.1000pattes.guide
X-WR-CALDESC:évènements pour 
REFRESH-INTERVAL;VALUE=DURATION:PT1H
X-Robots-Tag:noindex
X-PUBLISHED-TTL:PT1H
BEGIN:VTIMEZONE
TZID:UTC
BEGIN:STANDARD
TZOFFSETFROM:+0000
TZOFFSETTO:+0000
TZNAME:UTC
DTSTART:20260101T000000
END:STANDARD
END:VTIMEZONE
BEGIN:VEVENT
DTSTART;TZID=UTC:20260607T090000
DTEND;TZID=UTC:20260607T090000
DTSTAMP:20260423T090913
CREATED:20230118T055057Z
LAST-MODIFIED:20260101T195447Z
UID:10002067-1780822800-1780822800@nord-pas-de-calais.1000pattes.guide
SUMMARY:Weppes Swimrun - Wingles (62)
DESCRIPTION:Départ des courses à 9 heures. \nSwimrun XS – M \n+ d’infos sur les types de course : https://www.fftri.com/pratiquer/disciplines \nInscription : www.facebook.com/triathlonclubweppes \nContact : pierrelouis.senechal@gmail.com \n\n 
URL:https://nord-pas-de-calais.1000pattes.guide/event/weppes-swimrun-wingles-62/
LOCATION:Weppes Swimrun\, Wingles\, France
CATEGORIES:Swimrun
END:VEVENT
BEGIN:VEVENT
DTSTART;TZID=UTC:20260913T090000
DTEND;TZID=UTC:20260913T090000
DTSTAMP:20260423T090913
CREATED:20230118T115946Z
LAST-MODIFIED:20260101T195355Z
UID:10002077-1789290000-1789290000@nord-pas-de-calais.1000pattes.guide
SUMMARY:Weppes tri Cross – Wingles (62)
DESCRIPTION:(horaire à préciser) \nCross Triathlon XS et M \n+ d’infos sur les types de course : https://www.fftri.com/pratiquer/disciplines \nInscription : https://inscriptions-teve.fr/weppes-crosstri-2024/select_competition  \n https://www.facebook.com/triathlonclubweppes/ \nContact : pierrelouis.senechal@gmail.com\, 06 43 81 47 54
URL:https://nord-pas-de-calais.1000pattes.guide/event/weppes-tri-cross-wingles-62/
LOCATION:Weppes tri Cross\, Wingles\, France
CATEGORIES:Triathlon
END:VEVENT
BEGIN:VEVENT
DTSTART;TZID=UTC:20260919T143000
DTEND;TZID=UTC:20260919T143000
DTSTAMP:20260423T090913
CREATED:20230115T064637Z
LAST-MODIFIED:20260122T132502Z
UID:10001907-1789828200-1789828200@nord-pas-de-calais.1000pattes.guide
SUMMARY:Trail de la pyramidale - Wingles (62)
DESCRIPTION:Horaires à préciser. 2025 : 14 h 30 : 21 km. 15 h : 16 km. 15 h 30 : 10 km \n\nMarche non chronométrée 10 km. \nInscription sur place et sur Pyramidale.fr \nVestiaires. Douches. Buvette. \nContact : pyramidespassion@gmail.com\, contact@sportchronometrage.fr \n 
URL:https://nord-pas-de-calais.1000pattes.guide/event/trail-de-la-pyramidale-wingles-62/
LOCATION:Trail de la pyramidale\, Wingles\, France
CATEGORIES:Marche nordique et randonnée,Médaille,Trail et course nature
END:VEVENT
END:VCALENDAR