BEGIN:VCALENDAR
VERSION:2.0
PRODID:-// - ECPv6.2.8.1//NONSGML v1.0//EN
CALSCALE:GREGORIAN
METHOD:PUBLISH
X-ORIGINAL-URL:https://nord-pas-de-calais.1000pattes.guide
X-WR-CALDESC:évènements pour 
REFRESH-INTERVAL;VALUE=DURATION:PT1H
X-Robots-Tag:noindex
X-PUBLISHED-TTL:PT1H
BEGIN:VTIMEZONE
TZID:Europe/Paris
BEGIN:DAYLIGHT
TZOFFSETFROM:+0100
TZOFFSETTO:+0200
TZNAME:CEST
DTSTART:20260329T010000
END:DAYLIGHT
BEGIN:STANDARD
TZOFFSETFROM:+0200
TZOFFSETTO:+0100
TZNAME:CET
DTSTART:20261025T010000
END:STANDARD
END:VTIMEZONE
BEGIN:VEVENT
DTSTART;TZID=Europe/Paris:20260503T090000
DTEND;TZID=Europe/Paris:20260503T090000
DTSTAMP:20260423T060653
CREATED:20230107T174821Z
LAST-MODIFIED:20251212T092638Z
UID:10001735-1777798800-1777798800@nord-pas-de-calais.1000pattes.guide
SUMMARY:Trail du Patois Olhain - Maisnil-les-Ruitz (62)
DESCRIPTION:Rendez-vous au parc d’Olhain la 25e édition du Trail du Patois. La programmation de cette très belle épreuve  : \n9h : 29km\, 700D+\n9h15 : 20 km\, 400 D+\n9h30 : 12 km\, 300 D+\nRetrait des dossards la veille de 14h à 19h ou avant 8h30 le matin de la course \n \nÉdition déjà sold out  – 1500 participants \n \nVillage des commerçants tout le week end \nVestiaires\, douches\, restauration\, buvette.\nAmbiance familiale et esprit trail \nPlus d’infos sur leurs réseaux sociaux (Facebook + Instagram) \nContact: Sylvain Grimbert\,\nletraildupatois@gmail.com\n\n 
URL:https://nord-pas-de-calais.1000pattes.guide/event/trail-du-patois-olhain/
LOCATION:Trail du Patois Olhain\, Maisnil-les-Ruitz\, France
CATEGORIES:Trail et course nature
ATTACH;FMTTYPE=image/png:https://nord-pas-de-calais.1000pattes.guide/wp-content/uploads/sites/3/2023/01/Capture-decran-2025-12-12-a-10.24.50.png
END:VEVENT
BEGIN:VEVENT
DTSTART;TZID=Europe/Paris:20260503T103000
DTEND;TZID=Europe/Paris:20260503T103000
DTSTAMP:20260423T060653
CREATED:20230107T164627Z
LAST-MODIFIED:20260323T080654Z
UID:10001728-1777804200-1777804200@nord-pas-de-calais.1000pattes.guide
SUMMARY:Course nature des 3 rives - Courchelettes (59)
DESCRIPTION:9h30 : marche 8 km. 10h30 : 8 km et 13 km (chronométrés). 12h : 800 m enfants.  \nRendez-vous au stade Henri Stienne de Courchelettes \nVestiaires\, douches\, consignes\, petite restauration\, buvette.  \nInscription sur https://in.njuko.com/course-des-3-rives-2026 (dans la limite des places disponibles) \nContact : coursedes3rives@gmail.com \n 
URL:https://nord-pas-de-calais.1000pattes.guide/event/course-nature-des-trois-rives/
LOCATION:Course nature des trois rives\, courchelettes\, France
CATEGORIES:Courses de jeunes,Marche nordique et randonnée,Trail et course nature
ATTACH;FMTTYPE=image/png:https://nord-pas-de-calais.1000pattes.guide/wp-content/uploads/sites/3/2023/01/Capture-decran-2025-01-04-a-21.16.13.png
END:VEVENT
END:VCALENDAR