BEGIN:VCALENDAR
VERSION:2.0
PRODID:-// - ECPv6.2.8.1//NONSGML v1.0//EN
CALSCALE:GREGORIAN
METHOD:PUBLISH
X-ORIGINAL-URL:https://nord-pas-de-calais.1000pattes.guide
X-WR-CALDESC:évènements pour 
REFRESH-INTERVAL;VALUE=DURATION:PT1H
X-Robots-Tag:noindex
X-PUBLISHED-TTL:PT1H
BEGIN:VTIMEZONE
TZID:UTC
BEGIN:STANDARD
TZOFFSETFROM:+0000
TZOFFSETTO:+0000
TZNAME:UTC
DTSTART:20260101T000000
END:STANDARD
END:VTIMEZONE
BEGIN:VEVENT
DTSTART;TZID=UTC:20260412T090000
DTEND;TZID=UTC:20260412T090000
DTSTAMP:20260423T060414
CREATED:20230411T084124Z
LAST-MODIFIED:20251228T085222Z
UID:10002140-1775984400-1775984400@nord-pas-de-calais.1000pattes.guide
SUMMARY:Mons-trails - Mons (Be)
DESCRIPTION:Trails de 25km et 11km\nDomaine Provincial du Bois d’Havré\, à Mons (Belgique).\n9h : 25 km. Remise des dossards à 8h.\n10h30 : 11 km. Remise de s dossards à 9h30. \nInscriptions : asblmonsports.wordpress.com \nContact : equipe@asblmonsports.be\, +32 65 40 56 52
URL:https://nord-pas-de-calais.1000pattes.guide/event/mons-trails-mons-be/
LOCATION:Mons-trails\, Mons\, Belgique
CATEGORIES:Trail et course nature
END:VEVENT
END:VCALENDAR