BEGIN:VCALENDAR
VERSION:2.0
PRODID:-// - ECPv6.2.8.1//NONSGML v1.0//EN
CALSCALE:GREGORIAN
METHOD:PUBLISH
X-ORIGINAL-URL:https://nord-pas-de-calais.1000pattes.guide
X-WR-CALDESC:évènements pour 
REFRESH-INTERVAL;VALUE=DURATION:PT1H
X-Robots-Tag:noindex
X-PUBLISHED-TTL:PT1H
BEGIN:VTIMEZONE
TZID:UTC
BEGIN:STANDARD
TZOFFSETFROM:+0000
TZOFFSETTO:+0000
TZNAME:UTC
DTSTART:20250101T000000
END:STANDARD
END:VTIMEZONE
BEGIN:VEVENT
DTSTART;TZID=UTC:20250518T080000
DTEND;TZID=UTC:20250518T080000
DTSTAMP:20260419T171856
CREATED:20230118T055309Z
LAST-MODIFIED:20250129T104304Z
UID:10002068-1747555200-1747555200@nord-pas-de-calais.1000pattes.guide
SUMMARY:Triathlon du Calaisis - Sangatte (62)
DESCRIPTION:Triathlon S Indiv / Triathlon S CLM équipe \nSélectif championnat de France jeunes \nTous les horaires ici : https://www.facebook.com/photo/?fbid=952918123297786&set=pb.100057388212296.-2207520000 \n+ d’infos sur les types de course : https://www.fftri.com/pratiquer/disciplines \nInfos : https://www.lys-calais-triathlon.fr/ et Page Facebook du club \nContact : jean.cucheval@club-internet.fr
URL:https://nord-pas-de-calais.1000pattes.guide/event/triathlon-du-calaisis-sangatte-62/
LOCATION:Triathlon du Calaisis\, Sangatte\, France
CATEGORIES:Triathlon
END:VEVENT
END:VCALENDAR