BEGIN:VCALENDAR
VERSION:2.0
PRODID:-// - ECPv6.2.8.1//NONSGML v1.0//EN
CALSCALE:GREGORIAN
METHOD:PUBLISH
X-ORIGINAL-URL:https://nord-pas-de-calais.1000pattes.guide
X-WR-CALDESC:évènements pour 
REFRESH-INTERVAL;VALUE=DURATION:PT1H
X-Robots-Tag:noindex
X-PUBLISHED-TTL:PT1H
BEGIN:VTIMEZONE
TZID:UTC
BEGIN:STANDARD
TZOFFSETFROM:+0000
TZOFFSETTO:+0000
TZNAME:UTC
DTSTART:20260101T000000
END:STANDARD
TZID:Europe/Paris
BEGIN:DAYLIGHT
TZOFFSETFROM:+0100
TZOFFSETTO:+0200
TZNAME:CEST
DTSTART:20260329T010000
END:DAYLIGHT
BEGIN:STANDARD
TZOFFSETFROM:+0200
TZOFFSETTO:+0100
TZNAME:CET
DTSTART:20261025T010000
END:STANDARD
END:VTIMEZONE
BEGIN:VEVENT
DTSTART;TZID=UTC:20260606T150000
DTEND;TZID=UTC:20260606T150000
DTSTAMP:20260423T040819
CREATED:20230111T204805Z
LAST-MODIFIED:20251013T190619Z
UID:10001791-1780758000-1780758000@nord-pas-de-calais.1000pattes.guide
SUMMARY:Fores’trail - Guînes (62)
DESCRIPTION:Courses enfants (PO\, M\, B) départ de 13h30 à 14h. 14h30 : Maratrail de 42 km. 14h45 : 30 km. 15h : 22 km. 15h15 : 13 km et marche de 14 km. \nInscription sur chronopale. \nContact : 07 67 45 41 41 (Mickaël)
URL:https://nord-pas-de-calais.1000pattes.guide/event/forestrail/
LOCATION:Fores’trail\, Guînes\, France
CATEGORIES:Courses de jeunes,Marche nordique et randonnée,Trail et course nature
END:VEVENT
BEGIN:VEVENT
DTSTART;TZID=UTC:20260606T160000
DTEND;TZID=UTC:20260606T160000
DTSTAMP:20260423T040819
CREATED:20230112T203536Z
LAST-MODIFIED:20260122T131628Z
UID:10001822-1780761600-1780761600@nord-pas-de-calais.1000pattes.guide
SUMMARY:Trail des hobbits - La Comté (62)
DESCRIPTION:17h : 42 km 850 D+ \n17h30 : 30 km 700 m D+ \n18h30 : 21 km 500 m D+ \nVestiaires\, douches\, restauration\, buvette\, kinés\, consigne. Village enfants (sous la responsabilité des parents). Médailles. \nInscription via Facebook Letraildeshobbits et letraildeshobbits.fr \nContact : letraildeshobbits@hotmail.com \n 
URL:https://nord-pas-de-calais.1000pattes.guide/event/trail-des-hobbits/
LOCATION:Trail des hobbits\, La Comté\, France
CATEGORIES:Médaille,Trail et course nature
ATTACH;FMTTYPE=image/png:https://nord-pas-de-calais.1000pattes.guide/wp-content/uploads/sites/3/2023/01/Capture-decran-2025-12-28-a-12.12.49.png
END:VEVENT
BEGIN:VEVENT
DTSTART;TZID=UTC:20260607T090000
DTEND;TZID=UTC:20260607T090000
DTSTAMP:20260423T040819
CREATED:20230111T212411Z
LAST-MODIFIED:20260204T135202Z
UID:10001799-1780822800-1780822800@nord-pas-de-calais.1000pattes.guide
SUMMARY:Le Lumbres Trail Xperience - Lumbres (62)
DESCRIPTION:8h35 : marche de 10 km et 20 km. \n8h30 : 30 km. 9h : 20 km. \n10h : 10 km \nEnfants à 9h15\, 9h45\, 10h05 et 10h15 (Babys à Minimes). \nProduits locaux et goodies à l’arrivée pour tous \nBuvette et Foodtruck sur place \nInscription en ligne. \nPage Facebook LTX : https://www.facebook.com/p/Lumbres-Trail-X-perience-61560471322363/ \net CDL Lumbrois : https://www.facebook.com/profile.php?id=61560369118138 \nContact : ltx.organisation@gmail.com
URL:https://nord-pas-de-calais.1000pattes.guide/event/lumbres-trail-xperience/
LOCATION:Nat’run lumbroise\, Lumbres\, France
CATEGORIES:Caritatif,Courses de jeunes,Marche nordique et randonnée,Trail et course nature
ATTACH;FMTTYPE=image/jpeg:https://nord-pas-de-calais.1000pattes.guide/wp-content/uploads/sites/3/2023/01/605683271_122197171628349044_7086306522481458204_n.jpg
END:VEVENT
BEGIN:VEVENT
DTSTART;TZID=UTC:20260607T090000
DTEND;TZID=UTC:20260607T090000
DTSTAMP:20260423T040819
CREATED:20230118T055057Z
LAST-MODIFIED:20260101T195447Z
UID:10002067-1780822800-1780822800@nord-pas-de-calais.1000pattes.guide
SUMMARY:Weppes Swimrun - Wingles (62)
DESCRIPTION:Départ des courses à 9 heures. \nSwimrun XS – M \n+ d’infos sur les types de course : https://www.fftri.com/pratiquer/disciplines \nInscription : www.facebook.com/triathlonclubweppes \nContact : pierrelouis.senechal@gmail.com \n\n 
URL:https://nord-pas-de-calais.1000pattes.guide/event/weppes-swimrun-wingles-62/
LOCATION:Weppes Swimrun\, Wingles\, France
CATEGORIES:Swimrun
END:VEVENT
BEGIN:VEVENT
DTSTART;TZID=UTC:20260607T090000
DTEND;TZID=UTC:20260607T090000
DTSTAMP:20260423T040819
CREATED:20230305T123059Z
LAST-MODIFIED:20251013T112952Z
UID:10002118-1780822800-1780822800@nord-pas-de-calais.1000pattes.guide
SUMMARY:La 555 - Annequin (62)
DESCRIPTION:Concept unique dans la région\, course pédestre par qualification. Courses (Hommes et femmes séparément) par qualification. Pour participer à la finale du 5 km\, il faut passer les deux premiers tours qualificatifs de 5 km. Premier départ à 9h. Un seul groupe de marcheurs départ à 8h30 (allure libre). \nTombola sur tirage des dossards dotée de 2500 €  Nouveauté 2025 : marche 5 ou 8 km  \nInscriptions uniquement sur sportchronometrage.fr (limite à 200 coureurs et 100 marcheurs) \nContact : franck.mortreux0254@orange.fr 
URL:https://nord-pas-de-calais.1000pattes.guide/event/la-555-annequin-62/
LOCATION:La 555\, Annequin\, France
CATEGORIES:Course sur route
END:VEVENT
BEGIN:VEVENT
DTSTART;TZID=Europe/Paris:20260607T100000
DTEND;TZID=Europe/Paris:20260607T100000
DTSTAMP:20260423T040819
CREATED:20230110T172907Z
LAST-MODIFIED:20251228T111410Z
UID:10001784-1780826400-1780826400@nord-pas-de-calais.1000pattes.guide
SUMMARY:Wim’run - Wimereux (62)
DESCRIPTION:9h15 et 9h25 : courses jeunes. 10h : 5 km et 10 km. \nRendez-vous au quai Hazebrouck. \nVestiaires\, douches\, buvette\, restauration. Challenge du Pays du Boulonnais. \nInscription sur adeorun via facebook.com/Wimereuxrunningclub/ et uniquement sur place pour les enfants. \nContact : Loïc Cheuva\, 06 63 24 72 12\, info@wim-run.com
URL:https://nord-pas-de-calais.1000pattes.guide/event/wimrun/
LOCATION:Wim’run\, Wimereux\, France
CATEGORIES:Course sur route,Courses de jeunes
END:VEVENT
BEGIN:VEVENT
DTSTART;TZID=UTC:20260607T100000
DTEND;TZID=UTC:20260607T100000
DTSTAMP:20260423T040819
CREATED:20230324T165902Z
LAST-MODIFIED:20251228T213009Z
UID:10002131-1780826400-1780826400@nord-pas-de-calais.1000pattes.guide
SUMMARY:Sur les traces du loup blanc - Labourse (62)
DESCRIPTION:10h : 5 km\, 9 km et 18 km. 11h30 : enfants (1 km) \nInscription sur njuko et sur place\, au stade de Labourse. \nVestiaires\, douches\, consigne\, petite restauration\, buvette… Don aux Dunes d’espoir. \n Infos sur la page Facebook : Les coureurs du Loup Blanc officiel \nContact : lescoureursduloupblanc62@gmail.com
URL:https://nord-pas-de-calais.1000pattes.guide/event/sur-les-traces-du-loup-blanc/
LOCATION:sur les traces du loup blanc\, Labourse\, France
CATEGORIES:Caritatif,Courses de jeunes,Trail et course nature
END:VEVENT
BEGIN:VEVENT
DTSTART;TZID=UTC:20260607T101000
DTEND;TZID=UTC:20260607T101000
DTSTAMP:20260423T040819
CREATED:20230111T210840Z
LAST-MODIFIED:20251226T170810Z
UID:10001796-1780827000-1780827000@nord-pas-de-calais.1000pattes.guide
SUMMARY:Sto Lat Polonia Run - Oignies (62)
DESCRIPTION:Bien plus qu’une simple course\, un évènement culturel et un devoir de mémoire qui valorisent le bassin minier\, la mine et le centenaire de l’arrivée massive des mineurs polonais. \nENFANTS : \n9h (ROLAND) : 500 m\, \n9h10 (BASIA) : 1 200 m\, \n9h15 (BRONEK) : 2 200 m \n  \nRANDOS : \n9h40 (ZENON) : marche de 11 km\, \n9h45 (BERNARD): marche de 5 km \n  \nTRAILS : \n10h10 (JANUSZ) : 5 km\, \n11h05 : (SZYMANEK) 11 km et (JAZY) 16 km. \n  \nVillage Polonia : restauration\, artisanat\, concerts… \nInscription via stolatpoloniarun.fr \nContact : Didier Konarkowski\, poloniafrance.sport@gmail.com\, 06 64 00 37 77.
URL:https://nord-pas-de-calais.1000pattes.guide/event/sto-lat-polonia-run/
LOCATION:Sto Lat Polonia Run\, Oignies\, France
CATEGORIES:Courses de jeunes,Marche nordique et randonnée,Trail et course nature
ATTACH;FMTTYPE=image/jpeg:https://nord-pas-de-calais.1000pattes.guide/wp-content/uploads/sites/3/2023/01/579657952_18085692232983807_7813360027238080233_n.jpg
END:VEVENT
BEGIN:VEVENT
DTSTART;TZID=UTC:20260614T083000
DTEND;TZID=UTC:20260614T083000
DTSTAMP:20260423T040819
CREATED:20230112T144932Z
LAST-MODIFIED:20251228T154242Z
UID:10001815-1781425800-1781425800@nord-pas-de-calais.1000pattes.guide
SUMMARY:Défi des 7 portes - Hinges (62)
DESCRIPTION:Départ à 8h30 par vagues de 500 pour une randonnée ou une course nature non chronométrées et sans classement : 7 km\, 14 km\, 21 km ou 42 km (2 boucles différentes). Clefs reçues au départ et à l’arrivée et offertes au passage de chaque porte. Plus vous courez une grande distance\, plus vous cumulez des clefs au passage de ces portes (animées)\, plus vous aidez l’association association\, Parc SeP. Rendez-vous au cœur du camping du parc. 2300 dossards disponibles. \nFrite\, bière\, tee shirt et gobelet offert. \nInscription sur www.defides7portes.fr \nContact : 06 81 27 03 00\, fabien.rollin@wanadoo.fr
URL:https://nord-pas-de-calais.1000pattes.guide/event/defi-des-7-portes/
CATEGORIES:Caritatif,Marche nordique et randonnée,Trail et course nature
ATTACH;FMTTYPE=image/jpeg:https://nord-pas-de-calais.1000pattes.guide/wp-content/uploads/sites/3/2023/01/518383887_747742014869597_8325411609569595675_n.jpg
END:VEVENT
BEGIN:VEVENT
DTSTART;TZID=UTC:20260614T090000
DTEND;TZID=UTC:20260614T090000
DTSTAMP:20260423T040819
CREATED:20230111T214110Z
LAST-MODIFIED:20251013T203503Z
UID:10001804-1781427600-1781427600@nord-pas-de-calais.1000pattes.guide
SUMMARY:Foulées des tours - Mont-Saint-Eloi (62)
DESCRIPTION:Départ de la Classique de 8 km (sur route\, D+ 120m) à 10h et de la Mythique de 16 km (sur route\, D+ 210 m) à 9h30. Le trail Diabolique de 24 km (D+ 360 m) à 9 h. \n\n\n\nVillage départ. Ambiance musicale le long du parcours et au village. \nVestiaires. Consignes. \n\n\n\nInscription : https://fouleesdestours.com/ \n\n\n\nContact : François Beirnaert\, 06 76 71 93 06\, fouleesdestours@gmail.com
URL:https://nord-pas-de-calais.1000pattes.guide/event/foulees-des-tours/
LOCATION:Foulées des tours\, Mont-Saint-Eloi\, France
CATEGORIES:Trail et course nature
ATTACH;FMTTYPE=image/jpeg:https://nord-pas-de-calais.1000pattes.guide/wp-content/uploads/sites/3/2023/01/279850902_3295660407333942_9012966798314658292_n.jpeg
END:VEVENT
BEGIN:VEVENT
DTSTART;TZID=Europe/Paris:20260614T093500
DTEND;TZID=Europe/Paris:20260614T093500
DTSTAMP:20260423T040819
CREATED:20230107T113851Z
LAST-MODIFIED:20251013T194855Z
UID:10001694-1781429700-1781429700@nord-pas-de-calais.1000pattes.guide
SUMMARY:5 km et 10 km de Boulogne-sur-Mer (62)
DESCRIPTION:Horaires à confirmer. Potentiellement : A partir de 8h45 : courses des enfants. 9h35 : 5 km\, label Régional. 10h30 : 10 km\, label Régional.\n—————\n\nInscription sur njuko via la page Facebook de la course.\nContact : secretariat.boulogneac@laposte.net
URL:https://nord-pas-de-calais.1000pattes.guide/event/5-km-et-10-km-de-boulogne/
LOCATION:5 et 10 km\, Boulogne-sur-Mer\, France
CATEGORIES:Course sur route,Courses de jeunes,Marche nordique et randonnée
END:VEVENT
BEGIN:VEVENT
DTSTART;TZID=UTC:20260621T083000
DTEND;TZID=UTC:20260621T083000
DTSTAMP:20260423T040819
CREATED:20230112T144134Z
LAST-MODIFIED:20251013T204515Z
UID:10001814-1782030600-1782030600@nord-pas-de-calais.1000pattes.guide
SUMMARY:7 Vallées Race - Hesdin (62)
DESCRIPTION:9h15 : rando de 12 km. 8h30 : 42 km. 8h45 : 21 km. 9h45 : 15 km. 10h : 10 km. \nVestiaire\, consignes\, restauration\, buvette\, kinés. \nInscription via https://www.facebook.com/7valleesrace \nContact : ohm-omnisports@outlook.fr
URL:https://nord-pas-de-calais.1000pattes.guide/event/7-vallees-race/
LOCATION:7 Vallées Race\, Hesdin\, France
CATEGORIES:Marche nordique et randonnée,Trail et course nature
END:VEVENT
BEGIN:VEVENT
DTSTART;TZID=UTC:20260621T093000
DTEND;TZID=UTC:20260621T093000
DTSTAMP:20260423T040819
CREATED:20251230T073557Z
LAST-MODIFIED:20260122T124955Z
UID:10002066-1782034200-1782034200@nord-pas-de-calais.1000pattes.guide
SUMMARY:Trail de la montagnarde - Ablain-St-Nazaire (62)
DESCRIPTION:9h30 : 30 km ; 10h30 : 9 km et 16 km. \n2 courses enfants : 1 km à 9h45 et 2 km à 10h. Rdv place de la Mairie.  \nPetite restauration\, buvette\, WC\, consigne gratuite. Médaille. \nInscriptions sur https://traildelamontagnarde.fr/ et via Facebook : Jog Ablain Trail De La Montagnarde et sur place 30’ avant le départ et dans la limite des places disponibles. \nContact : jogablain62@gmail.com
URL:https://nord-pas-de-calais.1000pattes.guide/event/trail-de-la-montagnarde-ablain-st-nazaire-62-2/
LOCATION:Trail de la montagnarde\, Ablain-St-Nazaire\, France
CATEGORIES:Courses de jeunes,Médaille,Trail et course nature
ATTACH;FMTTYPE=image/jpeg:https://nord-pas-de-calais.1000pattes.guide/wp-content/uploads/sites/3/2023/01/592202735_1184692973876055_6730906409262911116_n.jpg
END:VEVENT
BEGIN:VEVENT
DTSTART;TZID=UTC:20260621T100000
DTEND;TZID=UTC:20260621T100000
DTSTAMP:20260423T040819
CREATED:20230111T213838Z
LAST-MODIFIED:20251013T203302Z
UID:10001803-1782036000-1782036000@nord-pas-de-calais.1000pattes.guide
SUMMARY:Foulées de la Lys - Roncq (59)
DESCRIPTION:Départ de la marche de 8 ou 14 km entre 8h et 9h30. Courses des enfants à partir de 9h. 5 km à 10 h et du 10 km (challenge CAPSO) à 10 h 45.  Rendez-vous à l’école de Rincq. \nBuvette. \nInscription sur place et sur helloasso. \nContact : fabienhernout@hotmail.fr – 06 27 79 10 09
URL:https://nord-pas-de-calais.1000pattes.guide/event/foulees-de-la-lys/
LOCATION:Foulées de la Lys\, Rincq\, France
CATEGORIES:Course sur route,Courses de jeunes,Marche nordique et randonnée
END:VEVENT
BEGIN:VEVENT
DTSTART;TZID=UTC:20260627T183000
DTEND;TZID=UTC:20260627T183000
DTSTAMP:20260423T040819
CREATED:20230112T143156Z
LAST-MODIFIED:20260111T201948Z
UID:10001813-1782585000-1782585000@nord-pas-de-calais.1000pattes.guide
SUMMARY:Canadian Race - Vimy (62)
DESCRIPTION:16h30 : 5 km route et 11\,5 km marche. A partir de 17h30 : courses des enfants. 18h30 : 11\,5 km route et 21 km trail. \nUn trail de 21 km rempli de surprises\, symbolisant la libération de la crête lors de la Première Guerre mondiale. Moment fort en émotions.\nLa Canadian Race met à disposition :\n– Vestiaire\n– Douche\n– Consignes vélo et vêtement\n– Tombola\n– Restauration et buvette\n\nInscription sur www.lacanadianrace.com  \n  \n 
URL:https://nord-pas-de-calais.1000pattes.guide/event/canadian-race/
LOCATION:Canadian Race\, Rue Rouget de Lisle\, Vimy\, 62580\, France
CATEGORIES:Course sur route,Courses de jeunes,Marche nordique et randonnée,Trail et course nature
ATTACH;FMTTYPE=image/jpeg:https://nord-pas-de-calais.1000pattes.guide/wp-content/uploads/sites/3/2023/01/image000000.jpg
END:VEVENT
BEGIN:VEVENT
DTSTART;TZID=UTC:20260704T160000
DTEND;TZID=UTC:20260704T160000
DTSTAMP:20260423T040819
CREATED:20230114T131728Z
LAST-MODIFIED:20251013T210100Z
UID:10001831-1783180800-1783180800@nord-pas-de-calais.1000pattes.guide
SUMMARY:La course entre mer et forêt - Le Touquet (62)
DESCRIPTION:Pour se faire plaisir en toute simplicité. Une jolie partie le long de la mer (pas dans le sable) puis en forêt.  Pas de dénivelé donc idéal pour débutants.  \nDéparts avenue Louis Quetelart. 16h : 10 km ; 17h : semi-marathon. 6000 max \nVestiaires\, douches\, restauration\, buvette\, garderie\, kinés. Village exposants. \nInscription sur prolivesport.fr via http://tacathletisme.athle.fr \nContact : 03 21 06 80 09\, tac.athle62@gmail.com \n  \nLe détail des courses avec notre partenaire PaceVisor :\n\n 
URL:https://nord-pas-de-calais.1000pattes.guide/event/la-course-entre-mer-et-foret-le-touquet-62/
LOCATION:La course entre mer et forêt\, Le Touquet (62)\, France
CATEGORIES:Course sur route
END:VEVENT
BEGIN:VEVENT
DTSTART;TZID=UTC:20260705T100000
DTEND;TZID=UTC:20260705T100000
DTSTAMP:20260423T040819
CREATED:20230411T061122Z
LAST-MODIFIED:20260127T113557Z
UID:10002139-1783245600-1783245600@nord-pas-de-calais.1000pattes.guide
SUMMARY:Foulées valdéricourtiennes - Vaudricourt (62)
DESCRIPTION:10h : 19 km (200 m D+). 10h30 : 9 km (50 m D+). 12h : enfants (500 m et 1000 m) avec ou sans handicap. Rendez-vous à l’école Saint-Casimir. \nConsignes\, massage\, tombola. Bière et saucisse-frites offertes. Médaille. \nInscription via sportchronometrage.fr et sur place\, et à Decathlon Fouquières-lès-Béthune le vendredi 3 après-midi et le samedi 4 juillet. \nPlus d’infos : https://www.facebook.com/Sport.Vaudricourt \nInscription via sportchronometrage.fr et sur place. \n 
URL:https://nord-pas-de-calais.1000pattes.guide/event/foulees-valdericourtiennes-vaudricourt-62/
LOCATION:Foulées valdéricourtiennes\, Vaudricourt\, France
CATEGORIES:Courses de jeunes,Marche nordique et randonnée,Médaille,Trail et course nature
ATTACH;FMTTYPE=image/jpeg:https://nord-pas-de-calais.1000pattes.guide/wp-content/uploads/sites/3/2023/04/327235472_441139018143770_6565188810620034820_n-2.jpg
END:VEVENT
BEGIN:VEVENT
DTSTART;TZID=UTC:20260711T180000
DTEND;TZID=UTC:20260711T180000
DTSTAMP:20260423T040819
CREATED:20230114T142838Z
LAST-MODIFIED:20251230T000015Z
UID:10001841-1783792800-1783792800@nord-pas-de-calais.1000pattes.guide
SUMMARY:La Stellienne - Cucq-Trepier-Stella Plage (62)
DESCRIPTION:Dès 15h : courses des enfants\, sur la plage\, de 2 à 14 ans. 15h : départ de la marche (8 km). 17h : 5 km. 18h : 10 km (mer\, dunes et forêt). Animations musicales. Sanitaires et douches disponibles sur le front de mer. Restauration\, buvette\, garderie (gratuite) via le Club de plage Mickey. Récompense pour les déguisements les plus originaux.  \nInscription sur Chronopale jusqu’au vendredi minuit et sur place 30’ avant le départ. \nInscription en ligne via Facebook « La Stellienne »  \nContact : Arnaud Grémont\, 06 40 99 53 65\, gremont.arnaud@orange.fr \n 
URL:https://nord-pas-de-calais.1000pattes.guide/event/la-stellienne-cucq-trepier-stella-plage-62/
LOCATION:La Stellienne\, Cucq-Trepier-Stella Plage\, France
CATEGORIES:Courses de jeunes,Marche nordique et randonnée,Trail et course nature
ATTACH;FMTTYPE=image/png:https://nord-pas-de-calais.1000pattes.guide/wp-content/uploads/sites/3/2023/01/Capture-decran-2025-12-30-a-00.59.51.png
END:VEVENT
BEGIN:VEVENT
DTSTART;TZID=UTC:20260714T090000
DTEND;TZID=UTC:20260714T090000
DTSTAMP:20260423T040819
CREATED:20230114T135729Z
LAST-MODIFIED:20251230T070513Z
UID:10001838-1784019600-1784019600@nord-pas-de-calais.1000pattes.guide
SUMMARY:Foulées ecquoises - Ecques (62)
DESCRIPTION:Départ des courses de la place d’Ecques – Départ à 9 h : 5 km ; 9h40 : 3 km (jeunes) ; 10h10 : 400 m\, 800 m puis 1200 m (enfants) ; 10h30 : 10 km. Buvette.  \nInscription sur place et sur helloasso.com et via www.facebook.com/ecques.foyerrural \nContact : karine.bertin19@orange.fr\, 06 86 98 92 12.
URL:https://nord-pas-de-calais.1000pattes.guide/event/foulees-ecquoises-ecques-62/
LOCATION:Foulées ecquoises\, Ecques (62)\, France
CATEGORIES:Course sur route,Courses de jeunes
END:VEVENT
BEGIN:VEVENT
DTSTART;TZID=UTC:20260725T170000
DTEND;TZID=UTC:20260725T170000
DTSTAMP:20260423T040819
CREATED:20230114T144423Z
LAST-MODIFIED:20251013T210908Z
UID:10001843-1784998800-1784998800@nord-pas-de-calais.1000pattes.guide
SUMMARY:Les Foulées vertes - Verton (62)
DESCRIPTION:Départ de «courir d’abord» (1 km pour les 4-14 ans) à partir de 15h\, du 5 km et du 10 km à 17 h. Inscription sur place.  \nRdV à la salle des sports. Vestiaires\, douches. \nInscription sur place et via http://www.verton.fr/ \nContact : 03 21 84 24 40\, commune.verton@wanadoo.fr. \n 
URL:https://nord-pas-de-calais.1000pattes.guide/event/foulees-vertes-verton-62/
LOCATION:Foulées vertes\, Verton\, France
CATEGORIES:Course sur route,Courses de jeunes
END:VEVENT
BEGIN:VEVENT
DTSTART;TZID=UTC:20260726T090000
DTEND;TZID=UTC:20260726T090000
DTSTAMP:20260423T040819
CREATED:20230114T135137Z
LAST-MODIFIED:20251013T210958Z
UID:10001836-1785056400-1785056400@nord-pas-de-calais.1000pattes.guide
SUMMARY:Foulées bapalmoises - Bapaume (62)
DESCRIPTION:Course dans le centre-ville de Bapaume. Départ du 5 km à 9 h et du 10 km à 9 h 45. A partir de 11h15 : courses des enfants. \nVestiaires\, petite restauration\, buvette\, consignes. \nInscription sur courirabapaume.fr en téléchargement le bulletin ou sur place avec majoration. \nContact : Damien Lecoq\, 06 45 28 89 01\, damien.lecoq62@gmail.com \n 
URL:https://nord-pas-de-calais.1000pattes.guide/event/foulees-bapalmoises-bapaume-62/
LOCATION:Les foulées bapalmoises\, Bapaume\, France
CATEGORIES:Course sur route,Courses de jeunes
END:VEVENT
BEGIN:VEVENT
DTSTART;TZID=UTC:20260801T183000
DTEND;TZID=UTC:20260801T183000
DTSTAMP:20260423T040819
CREATED:20230114T160009Z
LAST-MODIFIED:20251230T073301Z
UID:10001861-1785609000-1785609000@nord-pas-de-calais.1000pattes.guide
SUMMARY:La complice - Merlimont (62)
DESCRIPTION:Distances à confirmer. Courses de jeunes à partir de 16h. Et à partir de 18h30 : 5 km\, 10 km duo mixte\, 15 km solo et ou mixte.Sur le 15 km\, le premier participant effectue les 5 premiers kilomètres\, la second\, les 5 kilomètres suivants et les 5 derniers se courent ensemble. \nRdV place de la Chapelle. Buvette et petite restauration. \nInscription via www.merlimont.fr et la page Facebook « merlimont en côte d’opale ». \nContact : animations@merlimont.fr ou jeunesse@merlimont.fr
URL:https://nord-pas-de-calais.1000pattes.guide/event/la-complice-merlimont-62/
LOCATION:La complice\, Merlimont\, France
CATEGORIES:Course sur route,Courses de jeunes
END:VEVENT
BEGIN:VEVENT
DTSTART;TZID=UTC:20260815T103000
DTEND;TZID=UTC:20260815T103000
DTSTAMP:20260423T040819
CREATED:20230114T150854Z
LAST-MODIFIED:20251228T162130Z
UID:10001849-1786789800-1786789800@nord-pas-de-calais.1000pattes.guide
SUMMARY:La Judocienne - Saint-Josse/Mer (62)
DESCRIPTION:Course nature bois sous-bois. Course de jeunes à partir de 9h30. 10h30 : 5 km et 10 km. \nPetite restauration\, buvette. \nInscription sur place et sur adeorun. \nContact : Alain Justine\, 06 84 23 67 65/06 84 14 96 17\, alain.justine@orange.fr
URL:https://nord-pas-de-calais.1000pattes.guide/event/la-judocienne-saint-josse-mer-62/
LOCATION:La Judocienne\, Saint-Josse-sur-Mer\, France
CATEGORIES:Courses de jeunes,Trail et course nature
END:VEVENT
BEGIN:VEVENT
DTSTART;TZID=UTC:20260822T160000
DTEND;TZID=UTC:20260822T160000
DTSTAMP:20260423T040819
CREATED:20230114T151806Z
LAST-MODIFIED:20251230T092807Z
UID:10001851-1787414400-1787414400@nord-pas-de-calais.1000pattes.guide
SUMMARY:Foulées Fressinoises Cardon Frères - Fressin (62)
DESCRIPTION:A partir de 15 h : courses des enfants de 700 m\, 1 km\, 3 km\, \n16 h : 7 km et 10 km. \n Départ et arrivée au stade Firmin Caron\, rue de la Lombardie. 100 % bois. \nDouches\, vestiaires\, buvette\, tombola. \nInscription sur https://fressin.fr/index.php/ville-active/village-sportif/les-foulees-fressinoises \nContact : Claude Vergeot\, 03 21 90 63 78\, claude.vergeot@fressin.com 
URL:https://nord-pas-de-calais.1000pattes.guide/event/foulees-fressinoises-fressin-62/
LOCATION:Foulées Fressinoises\, Fressin\, France
CATEGORIES:Courses de jeunes,Trail et course nature
END:VEVENT
BEGIN:VEVENT
DTSTART;TZID=UTC:20260830T093000
DTEND;TZID=UTC:20260830T093000
DTSTAMP:20260423T040819
CREATED:20230114T153154Z
LAST-MODIFIED:20251230T094652Z
UID:10001855-1788082200-1788082200@nord-pas-de-calais.1000pattes.guide
SUMMARY:Courses pédestres d’Arras (62) 
DESCRIPTION:Samedi : marche \n\n\n\nDimanche. 9h30 : 5 km (label bronze). 10h20 : 10 km (label argent). Courses des enfants à partir de 11h30. \nConsigne salle Léo Lagrange. \n\n\n\nEt si vous mangiez une andouillette à la fin de la course au pied du beffroi ?  \n\n\n\nInscription sur rcarras.athle.com \n\n\n\nContact : 03 21 51 12 98\, rca-athle@wanadoo.fr
URL:https://nord-pas-de-calais.1000pattes.guide/event/courses-pedestres-darras-62/
LOCATION:Courses pédestres d’\, Arras\, France
CATEGORIES:Course sur route,Courses de jeunes,Marche nordique et randonnée
END:VEVENT
BEGIN:VEVENT
DTSTART;TZID=UTC:20260830T100000
DTEND;TZID=UTC:20260830T100000
DTSTAMP:20260423T040819
CREATED:20230114T165609Z
LAST-MODIFIED:20251230T094347Z
UID:10001871-1788084000-1788084000@nord-pas-de-calais.1000pattes.guide
SUMMARY:Foulées d’Aliboron - Estaires (59)
DESCRIPTION:9h15 et 9h30 : enfants. 10h : 5 km et 10 km (horaire à confirmer). \nMarche caritative de 10 km à partir de 9h30\, au profit de La Victoire est en nous. \nInscription sur nordsport-chronometrage.fr et sur place au parc Watine. \nContact : apasdejehanestaires@gmail.com
URL:https://nord-pas-de-calais.1000pattes.guide/event/foulees-daliboron-estaires-59/
LOCATION:Foulées d’Aliboron\, Estaires\, France
CATEGORIES:Caritatif,Course sur route,Courses de jeunes,Marche nordique et randonnée
END:VEVENT
BEGIN:VEVENT
DTSTART;TZID=UTC:20260905T143000
DTEND;TZID=UTC:20260905T143000
DTSTAMP:20260423T040819
CREATED:20230114T155212Z
LAST-MODIFIED:20251230T195446Z
UID:10001859-1788618600-1788618600@nord-pas-de-calais.1000pattes.guide
SUMMARY:Semis du Houblon - Arques (62)
DESCRIPTION:Le vendredi : concerts et retrait des dossards\, dégustation de bières.  \nLe samedi : Matin : visite de la brasserie. Le samedi midi : concert. Le samedi après-midi : 12 km en marche ou course nature\, 21 km course nature. Concerts\, dégustations. \nJusqu’à 6 ravitaillements\, 10 concerts sur le week-end. Le Semis du Houblon c’est une façon différente de découvrir la région Audomaroise\, ses paysages\, son terroir. C’est l’événement qui associe sport et convivialité. Le déguisement n’est pas obligatoire mais il est vivement conseillé.  \nInscription : www.lesemisduhoublon.com \nContact : Gressier Laurent\, 06 61 51 52 87\, contact@lesemisduhoublon.com 
URL:https://nord-pas-de-calais.1000pattes.guide/event/semis-du-houblon-arques-62/
LOCATION:Le semis du Houblon\, Arques\, France
CATEGORIES:Marche nordique et randonnée,Trail et course nature
END:VEVENT
BEGIN:VEVENT
DTSTART;TZID=UTC:20260905T160000
DTEND;TZID=UTC:20260905T160000
DTSTAMP:20260423T040819
CREATED:20230114T155651Z
LAST-MODIFIED:20251230T195829Z
UID:10001860-1788624000-1788624000@nord-pas-de-calais.1000pattes.guide
SUMMARY:Boucles d’Hardelot (62)
DESCRIPTION:Courses des enfants à partir de 14h45. Départ des 5 km et 10 km à 16h. RdV place Cordonnier. Tombola. \nInscription : sur adeorun à partir de mai via https://neufchatel-hardelot-animations.fr/  \nContact : 03 21 99 94 94\, communication@ville-neufchatel-hardelot.fr  \n 
URL:https://nord-pas-de-calais.1000pattes.guide/event/boucles-dhardelot-62/
LOCATION:Boucles d’Hardelot\, Hardelot\, France
CATEGORIES:Course sur route,Courses de jeunes
END:VEVENT
BEGIN:VEVENT
DTSTART;TZID=UTC:20260906T090000
DTEND;TZID=UTC:20260906T090000
DTSTAMP:20260423T040819
CREATED:20230114T165138Z
LAST-MODIFIED:20260122T134159Z
UID:10001870-1788685200-1788685200@nord-pas-de-calais.1000pattes.guide
SUMMARY:Maz Urban Trail - Mazingarbe (62)
DESCRIPTION:9h : 10 km trail chronométré (médaille). 10h30 : urban trail (course ou marche) de 5 km. Le départ des parcours enfants (500 m à 1\,5 km)\, sécurisés dans le parc Mercier sera donné à 12h30. Facebook : Urban Trail / Trail Mazingarbe \nInscription sur njuko en mars.  \nContacrt : romain.drumez@gmail.com
URL:https://nord-pas-de-calais.1000pattes.guide/event/maz-urban-trail-mazingarbe-62/
LOCATION:Maz Urban Trail\, Mazingarbe\, France
CATEGORIES:Courses de jeunes,Marche nordique et randonnée,Médaille,Urban trail
END:VEVENT
BEGIN:VEVENT
DTSTART;TZID=UTC:20260906T095000
DTEND;TZID=UTC:20260906T095000
DTSTAMP:20260423T040819
CREATED:20230114T162320Z
LAST-MODIFIED:20251228T163106Z
UID:10001866-1788688200-1788688200@nord-pas-de-calais.1000pattes.guide
SUMMARY:Course de l’andouille - Aire-sur-la-Lys (62)
DESCRIPTION:Rendez-vous sur la Grand’Place.  \nDéparts des enfants à 9 h\, 9h20\, 9h40. Départ à 9h50 du 5 km et du 10h30 du 10 km.  \nVestiaires et douches au stade Nestier. \nAndouille et bière offertes. \nInscription sur place et https://osaireathletisme.sportsregions.fr/ \nContact : secretaire.osathletisme@gmail.com
URL:https://nord-pas-de-calais.1000pattes.guide/event/course-de-landouille-aire-sur-la-lys-62/
LOCATION:Course de l’andouille\, Aire-sur-la-Lys\, France
CATEGORIES:Course sur route,Courses de jeunes
END:VEVENT
END:VCALENDAR