BEGIN:VCALENDAR
VERSION:2.0
PRODID:-// - ECPv6.2.8.1//NONSGML v1.0//EN
CALSCALE:GREGORIAN
METHOD:PUBLISH
X-ORIGINAL-URL:https://nord-pas-de-calais.1000pattes.guide
X-WR-CALDESC:évènements pour 
REFRESH-INTERVAL;VALUE=DURATION:PT1H
X-Robots-Tag:noindex
X-PUBLISHED-TTL:PT1H
BEGIN:VTIMEZONE
TZID:Europe/Paris
BEGIN:DAYLIGHT
TZOFFSETFROM:+0100
TZOFFSETTO:+0200
TZNAME:CEST
DTSTART:20260329T010000
END:DAYLIGHT
BEGIN:STANDARD
TZOFFSETFROM:+0200
TZOFFSETTO:+0100
TZNAME:CET
DTSTART:20261025T010000
END:STANDARD
END:VTIMEZONE
BEGIN:VEVENT
DTSTART;TZID=Europe/Paris:20260329T093000
DTEND;TZID=Europe/Paris:20260329T093000
DTSTAMP:20260423T041953
CREATED:20230104T220809Z
LAST-MODIFIED:20251012T183530Z
UID:10001641-1774776600-1774776600@nord-pas-de-calais.1000pattes.guide
SUMMARY:Trail des givrés - Lapugnoy (62)
DESCRIPTION:9h30 : 20 km (321 m de D+). 10h : 12 km (229 m de D+). Entre 8h et 10h : départ libre de la marche de 10 km (parcours différents du trail). RdV salle Joseph Quidet. \nVestiaires. Consignes. Buvette. Course caritative au profit de « Mon Petit Guerrier Sourire ». \nInscription pour la course sur nordsport-chronometrage.fr et via la Facebook du trail et pour la marche sur place  \nContact : joggingclub62122@gmail.com \n  \n 
URL:https://nord-pas-de-calais.1000pattes.guide/event/trail-des-givres/
LOCATION:Trail des givrés\, Lapugnoy (62)\, France
CATEGORIES:Caritatif,Trail et course nature
END:VEVENT
BEGIN:VEVENT
DTSTART;TZID=Europe/Paris:20260329T101500
DTEND;TZID=Europe/Paris:20260329T101500
DTSTAMP:20260423T041953
CREATED:20230106T213109Z
LAST-MODIFIED:20260323T131802Z
UID:10001677-1774779300-1774779300@nord-pas-de-calais.1000pattes.guide
SUMMARY:Foulées Wardrecquoises - Wardrecques (62)
DESCRIPTION:Entre 8h30 et 10h : départ de la marche de 10 km. A partir de 9h : courses des enfants. 10h15 : 5 km et 10 km sur route. \nChallenge CAPSO. \nVestiaires\, douches\, restauration\, buvette. \nInscription sur place\, la veille à Intersport Arques et sur helloasso via la page Facebook de la course. \nContact : Laurent Pecqueux\, 06 45 92 89 14\, lolopuce@me.com \n 
URL:https://nord-pas-de-calais.1000pattes.guide/event/foulees-wardrecquoises/
LOCATION:Foulées wardrecquoises\, Wardrecques\, France
CATEGORIES:Course sur route,Courses de jeunes
END:VEVENT
END:VCALENDAR