BEGIN:VCALENDAR
VERSION:2.0
PRODID:-// - ECPv6.2.8.1//NONSGML v1.0//EN
CALSCALE:GREGORIAN
METHOD:PUBLISH
X-ORIGINAL-URL:https://nord-pas-de-calais.1000pattes.guide
X-WR-CALDESC:évènements pour 
REFRESH-INTERVAL;VALUE=DURATION:PT1H
X-Robots-Tag:noindex
X-PUBLISHED-TTL:PT1H
BEGIN:VTIMEZONE
TZID:Europe/Paris
BEGIN:DAYLIGHT
TZOFFSETFROM:+0100
TZOFFSETTO:+0200
TZNAME:CEST
DTSTART:20260329T010000
END:DAYLIGHT
BEGIN:STANDARD
TZOFFSETFROM:+0200
TZOFFSETTO:+0100
TZNAME:CET
DTSTART:20261025T010000
END:STANDARD
END:VTIMEZONE
BEGIN:VEVENT
DTSTART;TZID=Europe/Paris:20260322T090000
DTEND;TZID=Europe/Paris:20260322T090000
DTSTAMP:20260423T041153
CREATED:20230105T072357Z
LAST-MODIFIED:20251012T063533Z
UID:10001658-1774170000-1774170000@nord-pas-de-calais.1000pattes.guide
SUMMARY:Le Trail des terrils des Foulées des écoles - Loos-en-Gohelle (62)
DESCRIPTION:9 h : 11 km (250 m D+). 9h15 : 19 km (500 m D+) Départ de la base du 11/19\, accès par la rue Léon Blum. \nRetrait des dossards le 21 mars à Decathlon Vendin-le-Vieil. \nConsigne. Course caritative. La majorité de la recette sera reversée à une association soutenant un enfant en situation de handicap. \nInscription sur http://lesfouleesdesecoles.e-monsite.com/. \nContact : Grégory Hober\, 06 73 81 45 66 – lesfouleesdesecoles@gmail.com
URL:https://nord-pas-de-calais.1000pattes.guide/event/le-trail-des-terrils-des-foulees-des-ecoles/
LOCATION:Le Trail des terrils des Foulées des écoles\, Loos-en-Gohelle (62)\, France
CATEGORIES:Caritatif,Trail et course nature
END:VEVENT
END:VCALENDAR