BEGIN:VCALENDAR
VERSION:2.0
PRODID:-// - ECPv6.2.8.1//NONSGML v1.0//EN
CALSCALE:GREGORIAN
METHOD:PUBLISH
X-ORIGINAL-URL:https://nord-pas-de-calais.1000pattes.guide
X-WR-CALDESC:évènements pour 
REFRESH-INTERVAL;VALUE=DURATION:PT1H
X-Robots-Tag:noindex
X-PUBLISHED-TTL:PT1H
BEGIN:VTIMEZONE
TZID:Europe/Paris
BEGIN:DAYLIGHT
TZOFFSETFROM:+0100
TZOFFSETTO:+0200
TZNAME:CEST
DTSTART:20260329T010000
END:DAYLIGHT
BEGIN:STANDARD
TZOFFSETFROM:+0200
TZOFFSETTO:+0100
TZNAME:CET
DTSTART:20261025T010000
END:STANDARD
END:VTIMEZONE
BEGIN:VEVENT
DTSTART;TZID=Europe/Paris:20260314T183000
DTEND;TZID=Europe/Paris:20260314T183000
DTSTAMP:20260423T041254
CREATED:20230104T225643Z
LAST-MODIFIED:20251201T190408Z
UID:10001652-1773513000-1773513000@nord-pas-de-calais.1000pattes.guide
SUMMARY:Foulées nocturnes de la Saint-Patrick - Clairmarais (62)
DESCRIPTION:18h30 : 21 km. 19h : 12 km. 19h30 : 6 km. Rando\, 9\, 15\, 20 et 27 km (horaires sur site) \nEn solo ou en duo\, venez découvrir la forêt de Clairmarais autrement. Départ et arrivée à la ferme de l’Abbaye. Concert et restauration sur place.  \nConsignes\, restauration\, buvette. Limité à 3000 participants.  \nInscriptions sur place (sous réserve de dossard disponible) et sur www.nature-sport-audo.com \nContact : Gressier Laurent\, 06 61 51 52 87\, contact@nature-sport-audo.com \n 
URL:https://nord-pas-de-calais.1000pattes.guide/event/foulees-nocturnes-de-la-saint-patrick/
LOCATION:Foulées nocturnes de la Saint-Patrick\, Clairmarais\, France
CATEGORIES:Marche nordique et randonnée,Trail et course nature
END:VEVENT
END:VCALENDAR