BEGIN:VCALENDAR
VERSION:2.0
PRODID:-// - ECPv6.2.8.1//NONSGML v1.0//EN
CALSCALE:GREGORIAN
METHOD:PUBLISH
X-ORIGINAL-URL:https://nord-pas-de-calais.1000pattes.guide
X-WR-CALDESC:évènements pour 
REFRESH-INTERVAL;VALUE=DURATION:PT1H
X-Robots-Tag:noindex
X-PUBLISHED-TTL:PT1H
BEGIN:VTIMEZONE
TZID:UTC
BEGIN:STANDARD
TZOFFSETFROM:+0000
TZOFFSETTO:+0000
TZNAME:UTC
DTSTART:20260101T000000
END:STANDARD
END:VTIMEZONE
BEGIN:VEVENT
DTSTART;TZID=UTC:20260208T110000
DTEND;TZID=UTC:20260208T110000
DTSTAMP:20260423T060414
CREATED:20230117T193359Z
LAST-MODIFIED:20260101T200822Z
UID:10002039-1770548400-1770548400@nord-pas-de-calais.1000pattes.guide
SUMMARY:Bike and run / Vetathlon – Berck-sur-Mer (62)
DESCRIPTION:S: 12kms 16 ans Mini\nXS: 6kms de 12 à 15 ans\nBike and run famille: 1km\n+ d’infos sur les types de course : https://www.fftri.com/pratiquer/disciplines \nPlus d’infos : @Berckbikeandrun \nInscription : berckopalesudtriathlon.fr/ \nContact : president.bost@gmail.com
URL:https://nord-pas-de-calais.1000pattes.guide/event/bike-run-vetathlon-berck-sur-mer-62/
LOCATION:Bike & run / Vetathlon\, Berck-sur-Mer\, France
CATEGORIES:Bike & run
END:VEVENT
END:VCALENDAR