BEGIN:VCALENDAR
VERSION:2.0
PRODID:-// - ECPv6.2.8.1//NONSGML v1.0//EN
CALSCALE:GREGORIAN
METHOD:PUBLISH
X-ORIGINAL-URL:https://nord-pas-de-calais.1000pattes.guide
X-WR-CALDESC:évènements pour 
REFRESH-INTERVAL;VALUE=DURATION:PT1H
X-Robots-Tag:noindex
X-PUBLISHED-TTL:PT1H
BEGIN:VTIMEZONE
TZID:Europe/Paris
BEGIN:DAYLIGHT
TZOFFSETFROM:+0100
TZOFFSETTO:+0200
TZNAME:CEST
DTSTART:20260329T010000
END:DAYLIGHT
BEGIN:STANDARD
TZOFFSETFROM:+0200
TZOFFSETTO:+0100
TZNAME:CET
DTSTART:20261025T010000
END:STANDARD
END:VTIMEZONE
BEGIN:VEVENT
DTSTART;TZID=Europe/Paris:20260508T100000
DTEND;TZID=Europe/Paris:20260508T100000
DTSTAMP:20260423T172629
CREATED:20230107T201123Z
LAST-MODIFIED:20251014T082647Z
UID:10001738-1778234400-1778234400@nord-pas-de-calais.1000pattes.guide
SUMMARY:Course de la Paix - Trith-Saint-Léger (59)
DESCRIPTION:Randonnées de 7 km et 11 km à 9h15. Courses de jeunes à partir à 10h45 et 11h.  \nDépart du 10 km à 9h. Départ du 5 km à 9h05. \n11h45 : color run de 5 km. \nInscription sur place et sur wikitrith.fr/trith \nLien direct : https://www.nordsport-chronometrage.fr/course-de-la-paix/ \nContact : sporttrith@trith.fr \n 
URL:https://nord-pas-de-calais.1000pattes.guide/event/course-de-la-paix/
LOCATION:Course de la paix\, Trith-Saint-Léger\, France
CATEGORIES:Course de couleur,Course sur route,Courses de jeunes,Marche nordique et randonnée
END:VEVENT
END:VCALENDAR