BEGIN:VCALENDAR
VERSION:2.0
PRODID:-// - ECPv6.2.8.1//NONSGML v1.0//EN
CALSCALE:GREGORIAN
METHOD:PUBLISH
X-ORIGINAL-URL:https://nord-pas-de-calais.1000pattes.guide
X-WR-CALDESC:évènements pour 
REFRESH-INTERVAL;VALUE=DURATION:PT1H
X-Robots-Tag:noindex
X-PUBLISHED-TTL:PT1H
BEGIN:VTIMEZONE
TZID:Europe/Paris
BEGIN:DAYLIGHT
TZOFFSETFROM:+0100
TZOFFSETTO:+0200
TZNAME:CEST
DTSTART:20260329T010000
END:DAYLIGHT
BEGIN:STANDARD
TZOFFSETFROM:+0200
TZOFFSETTO:+0100
TZNAME:CET
DTSTART:20261025T010000
END:STANDARD
TZID:UTC
BEGIN:STANDARD
TZOFFSETFROM:+0000
TZOFFSETTO:+0000
TZNAME:UTC
DTSTART:20260101T000000
END:STANDARD
END:VTIMEZONE
BEGIN:VEVENT
DTSTART;TZID=Europe/Paris:20260503T090000
DTEND;TZID=Europe/Paris:20260503T090000
DTSTAMP:20260423T191244
CREATED:20230104T221425Z
LAST-MODIFIED:20251202T171556Z
UID:10001642-1777798800-1777798800@nord-pas-de-calais.1000pattes.guide
SUMMARY:Foulées Cappelloises - Cappelle-la-Grande  (59)
DESCRIPTION:8h50 : 5 km et 10 km marche. A partir de 9h : courses des enfants. 10h15 : 5 km. 11h : 10 km. \n Rendez-vous rue du Crayhof.  \nDouches\, vestiaires\, consignes\, buvette\, petite restauration. \nInscription sur Inscription en ligne via Adeorun\, www.jeunesse-cappelloise-athletisme.fr et la veille de la course sur place jusqu’à 17h. \nContact : 06 51 79 52 16\, jeunessecap@gmail.com \n 
URL:https://nord-pas-de-calais.1000pattes.guide/event/foulees-cappelloises/
LOCATION:Foulées Cappelloises\, Cappelle-la-Grande\, France
CATEGORIES:Course sur route,Courses de jeunes
END:VEVENT
BEGIN:VEVENT
DTSTART;TZID=UTC:20260503T093000
DTEND;TZID=UTC:20260503T093000
DTSTAMP:20260423T191244
CREATED:20230107T165216Z
LAST-MODIFIED:20260207T163611Z
UID:10001729-1777800600-1777800600@nord-pas-de-calais.1000pattes.guide
SUMMARY:La Flines équipe - Flines-lez-Râches (59)
DESCRIPTION:5 et 10 km duo : Course nature sur route et chemin qui se réalise en duo\, la singularité de la course réside dans le classement qui s’effectue par addition des temps de l’équipe. Possibilité de s’inscrire en solo et de laisser le hasard décider du binôme.  \nSemi-marathon (label départemental) en solo\, parcours roulant 100 % macadam. \n9h : challenge endurance 8’ (enfants). 9h30 : semi-marathon. 9h35 : 1400 m. 10h : 5 km. 10h05 : 10 km.  \n2 € reversés au profit de l’association « Les petits pas de Rachel ».  \nVestiaires\, douches\, buvette.  \nInfos et inscriptions sur athletismeclubflineslezraches.wordpress.com/ \nContact : athletismeflines@gmx.fr \n 
URL:https://nord-pas-de-calais.1000pattes.guide/event/la-flines-equipe/
LOCATION:La Flines équipe\, Flines-lez-Râches\, France
CATEGORIES:Caritatif,Course sur route,Marche nordique et randonnée,Trail et course nature
ATTACH;FMTTYPE=image/png:https://nord-pas-de-calais.1000pattes.guide/wp-content/uploads/sites/3/2023/01/Capture-decran-2025-01-04-a-21.22.04.png
END:VEVENT
END:VCALENDAR