BEGIN:VCALENDAR
VERSION:2.0
PRODID:-// - ECPv6.2.8.1//NONSGML v1.0//EN
CALSCALE:GREGORIAN
METHOD:PUBLISH
X-ORIGINAL-URL:https://nord-pas-de-calais.1000pattes.guide
X-WR-CALDESC:évènements pour 
REFRESH-INTERVAL;VALUE=DURATION:PT1H
X-Robots-Tag:noindex
X-PUBLISHED-TTL:PT1H
BEGIN:VTIMEZONE
TZID:UTC
BEGIN:STANDARD
TZOFFSETFROM:+0000
TZOFFSETTO:+0000
TZNAME:UTC
DTSTART:20260101T000000
END:STANDARD
TZID:Europe/Paris
BEGIN:DAYLIGHT
TZOFFSETFROM:+0100
TZOFFSETTO:+0200
TZNAME:CEST
DTSTART:20260329T010000
END:DAYLIGHT
BEGIN:STANDARD
TZOFFSETFROM:+0200
TZOFFSETTO:+0100
TZNAME:CET
DTSTART:20261025T010000
END:STANDARD
END:VTIMEZONE
BEGIN:VEVENT
DTSTART;TZID=UTC:20260308T083000
DTEND;TZID=UTC:20260308T083000
DTSTAMP:20260423T190624
CREATED:20230117T194503Z
LAST-MODIFIED:20260101T202223Z
UID:10002042-1772958600-1772958600@nord-pas-de-calais.1000pattes.guide
SUMMARY:Duathlon de Villeneuve-d’Ascq (59)
DESCRIPTION:Duathlon Jeunes (6-9) (10-13) – XS – S \n+ d’infos sur les types de course : https://www.fftri.com/pratiquer/disciplines \nInscription :  http://www.vatriathlon.com/ \nContact : villeneuvedascqtriathlon@gmail.com
URL:https://nord-pas-de-calais.1000pattes.guide/event/duathlon-de-villeneuve-dascq-59/
LOCATION:Duathlon de Villeneuve d’Ascq\, Villeneuve-d’Ascq\, France
CATEGORIES:Duathlon
END:VEVENT
BEGIN:VEVENT
DTSTART;TZID=Europe/Paris:20260308T093000
DTEND;TZID=Europe/Paris:20260308T093000
DTSTAMP:20260423T190624
CREATED:20230104T230808Z
LAST-MODIFIED:20251105T211505Z
UID:10001656-1772962200-1772962200@nord-pas-de-calais.1000pattes.guide
SUMMARY:Les Printanières - Saultain (59)   
DESCRIPTION:8h : marche de 10 km. 9h : 20 km. 9h30 : 10 km. 10h : 5 km. 11h15 : courses des enfants. 12h : color run de 5 km. \nDépart et arrivée au complexe sportif Jules Gravelle. \nVestiaires\, douches\, garderie\, restauration\, buvette. \nInscription sur printanieres.saultain.fr \nContact :  03 27 36 49 33\, printanieres@ville-saultain.fr
URL:https://nord-pas-de-calais.1000pattes.guide/event/les-printanieres-de-saultain/
LOCATION:Les Printanières\, Saultain\, France
CATEGORIES:Courses de jeunes,Marche nordique et randonnée,Trail et course nature
ATTACH;FMTTYPE=image/jpeg:https://nord-pas-de-calais.1000pattes.guide/wp-content/uploads/sites/3/2023/01/470182458_10235482056334439_6004592576534121671_n.jpg
END:VEVENT
BEGIN:VEVENT
DTSTART;TZID=Europe/Paris:20260308T100000
DTEND;TZID=Europe/Paris:20260308T100000
DTSTAMP:20260423T190624
CREATED:20230105T092459Z
LAST-MODIFIED:20260122T133444Z
UID:10001659-1772964000-1772964000@nord-pas-de-calais.1000pattes.guide
SUMMARY:La Mervilleuse - Merville (59)
DESCRIPTION:Course sur route et trail avec départs et arrivées sur le stade. \nEntre 7h30 et 9h : marche de 10 ou 21 km. 9h15 : trail de 21 km. 10h : 5 et 10 km. A partir de 11h30 : courses enfants.  \n10e édition. Médaille.  \nVestiaires\, douches\, restauration\, buvette. \nInscription sur place et sur njuko  \nContact : Alain Didier 06 21 04 39 34\, contactcouriramerville@gmail.com \n 
URL:https://nord-pas-de-calais.1000pattes.guide/event/la-mervilleuse/
LOCATION:La Mervilleuse\, Merville\, France
CATEGORIES:Course sur route,Courses de jeunes,Marche nordique et randonnée,Médaille,Trail et course nature
END:VEVENT
END:VCALENDAR