BEGIN:VCALENDAR
VERSION:2.0
PRODID:-// - ECPv6.2.8.1//NONSGML v1.0//EN
CALSCALE:GREGORIAN
METHOD:PUBLISH
X-ORIGINAL-URL:https://nord-pas-de-calais.1000pattes.guide
X-WR-CALDESC:évènements pour 
REFRESH-INTERVAL;VALUE=DURATION:PT1H
X-Robots-Tag:noindex
X-PUBLISHED-TTL:PT1H
BEGIN:VTIMEZONE
TZID:Europe/Paris
BEGIN:DAYLIGHT
TZOFFSETFROM:+0100
TZOFFSETTO:+0200
TZNAME:CEST
DTSTART:20260329T010000
END:DAYLIGHT
BEGIN:STANDARD
TZOFFSETFROM:+0200
TZOFFSETTO:+0100
TZNAME:CET
DTSTART:20261025T010000
END:STANDARD
END:VTIMEZONE
BEGIN:VEVENT
DTSTART;TZID=Europe/Paris:20260301T090000
DTEND;TZID=Europe/Paris:20260301T090000
DTSTAMP:20260423T172658
CREATED:20230104T211353Z
LAST-MODIFIED:20260122T125901Z
UID:10001636-1772355600-1772355600@nord-pas-de-calais.1000pattes.guide
SUMMARY:Trail du Val Joly (59)
DESCRIPTION:9h : 35 km (label national). 9h30 : 26 km. 10h30 : 17 km. 11h : 10 km. 11h05 : marche de 9 km. Organisé par le comité 59 de la FFA. \nRestauration\, buvette\, vestiaires\, douches. \nInscription sur http://trailvaljoly.com \nContact : Freddy Littière\, 03  20 56 19 06\, 07 86 50 06 84\, contact@trailvaljoly.com \nPréparez le 33 km avec notre partenaire PaceVisor :\n 
URL:https://nord-pas-de-calais.1000pattes.guide/event/trail-du-val-joly/
LOCATION:Trail du\, Val Joly\, France
CATEGORIES:Marche nordique et randonnée,Médaille,Trail et course nature
END:VEVENT
BEGIN:VEVENT
DTSTART;TZID=Europe/Paris:20260301T093000
DTEND;TZID=Europe/Paris:20260301T093000
DTSTAMP:20260423T172658
CREATED:20230104T211123Z
LAST-MODIFIED:20251011T211039Z
UID:10001635-1772357400-1772357400@nord-pas-de-calais.1000pattes.guide
SUMMARY:Course de la dentelle - Caudry (59)
DESCRIPTION:9h30 : 5 km. 10h15 : 10 km (label Bronze). 11h30 : course des enfants. Départ des marches de 5 km et 10 km à 9 h 35.  \nVestiaires\, douches\, kiné\, restauration\, garde d’enfants\, tombola. \nInscription sur uca-caudry.fr \nContact : 06 47 97 66 67\, thiery.lamouret@wanadoo.fr \n 
URL:https://nord-pas-de-calais.1000pattes.guide/event/course-de-la-dentelle/
LOCATION:Course de la dentelle\, Caudry\, France
CATEGORIES:Course sur route,Courses de jeunes,Marche nordique et randonnée
END:VEVENT
END:VCALENDAR