BEGIN:VCALENDAR
VERSION:2.0
PRODID:-// - ECPv6.2.8.1//NONSGML v1.0//EN
CALSCALE:GREGORIAN
METHOD:PUBLISH
X-ORIGINAL-URL:https://nord-pas-de-calais.1000pattes.guide
X-WR-CALDESC:évènements pour 
REFRESH-INTERVAL;VALUE=DURATION:PT1H
X-Robots-Tag:noindex
X-PUBLISHED-TTL:PT1H
BEGIN:VTIMEZONE
TZID:Europe/Paris
BEGIN:DAYLIGHT
TZOFFSETFROM:+0100
TZOFFSETTO:+0200
TZNAME:CEST
DTSTART:20260329T010000
END:DAYLIGHT
BEGIN:STANDARD
TZOFFSETFROM:+0200
TZOFFSETTO:+0100
TZNAME:CET
DTSTART:20261025T010000
END:STANDARD
TZID:UTC
BEGIN:STANDARD
TZOFFSETFROM:+0000
TZOFFSETTO:+0000
TZNAME:UTC
DTSTART:20260101T000000
END:STANDARD
END:VTIMEZONE
BEGIN:VEVENT
DTSTART;TZID=Europe/Paris:20260201T080000
DTEND;TZID=Europe/Paris:20260201T080000
DTSTAMP:20260423T190319
CREATED:20230103T203403Z
LAST-MODIFIED:20260122T125816Z
UID:10001617-1769932800-1769932800@nord-pas-de-calais.1000pattes.guide
SUMMARY:Trail du caillou - Sebourg (59)
DESCRIPTION:8h : 30 km (415 m D+). 9h : 23 km (307 m D+). \n1er février trail du caillou : 13 km à 9h30 ; marche à 9h45 ; 12h : trail kid’s de 800 m et 2 km. \n Rdv place de Sebourg. Remise des dossards dès le 31/1 (15h-20h). \nPetite restauration\, buvette. Animations. 2 000 inscrits max. Médaille. \nInfos\, contact et inscription sur trailducaillou.wixsite.com/trailducaillou \n  \n 
URL:https://nord-pas-de-calais.1000pattes.guide/event/trail-du-caillou/
LOCATION:Trail du caillou\, Sebourg\, France
CATEGORIES:Courses de jeunes,Marche nordique et randonnée,Médaille,Trail et course nature
END:VEVENT
BEGIN:VEVENT
DTSTART;TZID=Europe/Paris:20260201T100000
DTEND;TZID=Europe/Paris:20260201T100000
DTSTAMP:20260423T190319
CREATED:20230103T212137Z
LAST-MODIFIED:20251011T195948Z
UID:10001627-1769940000-1769940000@nord-pas-de-calais.1000pattes.guide
SUMMARY:10 km du Ravensberg  - Bailleul (59)
DESCRIPTION:Samedi 31 janvier : départs libres de 5 km ou 12 km\, entre 14h et 15h. \nDimanche 1er février : 10h : 10 km (label national) \nVestiaires et douches. Animations musicales sur le parcours. \nInscription : http://www.10kmduravensberg.fr/ \nContact : gerarddubruque@gmail.com
URL:https://nord-pas-de-calais.1000pattes.guide/event/10-km-de-ravensberg/
LOCATION:10 km du Ravensberg\, Bailleul\, France
CATEGORIES:Course sur route
END:VEVENT
BEGIN:VEVENT
DTSTART;TZID=Europe/Paris:20260201T103000
DTEND;TZID=Europe/Paris:20260201T103000
DTSTAMP:20260423T190319
CREATED:20230103T210556Z
LAST-MODIFIED:20251028T103813Z
UID:10001625-1769941800-1769941800@nord-pas-de-calais.1000pattes.guide
SUMMARY:La crapahute - Herlies (59)
DESCRIPTION:9h30 : Rando Crapahute et Marche nordique de 10\,5 km \n9h45 : Crapa’mioches\, courses enfants \n10h30 : Trail Crapahute course nature chronométrée de 10\,5 km \n10h30 : Rando Balade de 5 km \nCourse caritative. 20e édition. Soupe et café offerts. \nVestiaires\, douches. Petite restauration\, buvette.  \nInscriptions sur place\, sur njuko et via Facebook : herliesrandorun \n\nContact : h2r.asso@gmail.com\, François Lefebvre\, 06 84 10 44 01 \n 
URL:https://nord-pas-de-calais.1000pattes.guide/event/la-crapahute/
LOCATION:La crapahute\, Herlies\, France
CATEGORIES:Caritatif,Courses de jeunes,Marche nordique et randonnée,Trail et course nature
ATTACH;FMTTYPE=image/jpeg:https://nord-pas-de-calais.1000pattes.guide/wp-content/uploads/sites/3/2023/01/1000051536.jpg
END:VEVENT
BEGIN:VEVENT
DTSTART;TZID=UTC:20260208T100000
DTEND;TZID=UTC:20260208T100000
DTSTAMP:20260423T190319
CREATED:20230103T204751Z
LAST-MODIFIED:20251011T205327Z
UID:10001622-1770544800-1770544800@nord-pas-de-calais.1000pattes.guide
SUMMARY:Cassel montagne d’un jour - Cassel (59)
DESCRIPTION:Trail de 15\,3 km. Départ à 10h. En alternant routes\, chemins et sentiers\, partez à l’ascension du Mont Cassel\, point culminant des Flandres qui offre une vue imprenable sur la plaine des Flandres.  \nLimitation à 800 coureurs. \nConsignes. Animations musicales sur le circuit. \nInscription sur prolivesport.fr \nContact : M. Quayebeur\, ggprincesse@orange.fr\, 06 68 55 23 45. \n\n\nPréparez votre course avec notre partenaire PaceVisor :
URL:https://nord-pas-de-calais.1000pattes.guide/event/cassel-montagne-dun-jour/
LOCATION:Cassel montagne d’un jour\, Cassel\, France
CATEGORIES:Trail et course nature
END:VEVENT
BEGIN:VEVENT
DTSTART;TZID=Europe/Paris:20260215T100000
DTEND;TZID=Europe/Paris:20260215T100000
DTSTAMP:20260423T190319
CREATED:20230103T214033Z
LAST-MODIFIED:20251118T103208Z
UID:10001630-1771149600-1771149600@nord-pas-de-calais.1000pattes.guide
SUMMARY:Les foulées d’Ors (59)
DESCRIPTION:10 h : 10 km et marche (5-10 km). 11h20 : 5 km. A partir de 12h15 : courses des enfants. Course du Challenge du Cambrésis et du Challenge Val de Sambre Hainaut. \nParking\, vestiaires\, douches\, petite restauration et buvette. \nInscription via la page Facebook de la course https://www.facebook.com/foulees.ors/ et en direct sur helloasso. \nContact : Julien Baillon\, lesfouleesdors@gmail.com\, 06 15 52 70 06. \n  \n 
URL:https://nord-pas-de-calais.1000pattes.guide/event/les-foulees-dors/
LOCATION:Les foulées d’\, Ors\, France
CATEGORIES:Course sur route,Courses de jeunes,Marche nordique et randonnée
END:VEVENT
BEGIN:VEVENT
DTSTART;TZID=Europe/Paris:20260222T084500
DTEND;TZID=Europe/Paris:20260222T084500
DTSTAMP:20260423T190319
CREATED:20230103T215302Z
LAST-MODIFIED:20251202T172217Z
UID:10001633-1771749900-1771749900@nord-pas-de-calais.1000pattes.guide
SUMMARY:La route du Sourire - Lestrem (62)
DESCRIPTION:8h45 : 30 km. 10h15 : 10\,9 km. 10h30 : 5\,1 km. Deux parcours pour les enfants à partir de 11h30 et trois de randonnée à partir de 8h. Course festive\, caritative et solidaire. Accueil particulier pour les Joëlettes et fauteuil hippocampe.  \nVestiaires. Restauration. Buvette. Animations. \nNombre de participants limité. \nInfos et inscriptions sur laroutedusourire.fr \nContact : laroutedusourire@gmail.com \n 
URL:https://nord-pas-de-calais.1000pattes.guide/event/la-route-du-sourire/
LOCATION:La route du Sourire\, Lestrem\, France
CATEGORIES:Caritatif,Courses de jeunes,Marche nordique et randonnée,Trail et course nature
ATTACH;FMTTYPE=image/jpeg:https://nord-pas-de-calais.1000pattes.guide/wp-content/uploads/sites/3/2023/01/309823973_206755725027655_7970374075151424559_n-1.jpg
END:VEVENT
END:VCALENDAR