BEGIN:VCALENDAR
VERSION:2.0
PRODID:-// - ECPv6.2.8.1//NONSGML v1.0//EN
CALSCALE:GREGORIAN
METHOD:PUBLISH
X-ORIGINAL-URL:https://nord-pas-de-calais.1000pattes.guide
X-WR-CALDESC:évènements pour 
REFRESH-INTERVAL;VALUE=DURATION:PT1H
X-Robots-Tag:noindex
X-PUBLISHED-TTL:PT1H
BEGIN:VTIMEZONE
TZID:UTC
BEGIN:STANDARD
TZOFFSETFROM:+0000
TZOFFSETTO:+0000
TZNAME:UTC
DTSTART:20260101T000000
END:STANDARD
TZID:Europe/Paris
BEGIN:DAYLIGHT
TZOFFSETFROM:+0100
TZOFFSETTO:+0200
TZNAME:CEST
DTSTART:20260329T010000
END:DAYLIGHT
BEGIN:STANDARD
TZOFFSETFROM:+0200
TZOFFSETTO:+0100
TZNAME:CET
DTSTART:20261025T010000
END:STANDARD
END:VTIMEZONE
BEGIN:VEVENT
DTSTART;TZID=UTC:20260117T170000
DTEND;TZID=UTC:20260117T170000
DTSTAMP:20260423T190354
CREATED:20230114T124907Z
LAST-MODIFIED:20260122T125622Z
UID:10001830-1768669200-1768669200@nord-pas-de-calais.1000pattes.guide
SUMMARY:Sur les traces de Vauban - Gravelines (59)
DESCRIPTION:14h20 : marche nordique non chronométrée et randonnée de 9 km et 12 km \nDe 14h30 à 15h15 : courses jeunes de 500 m à 3 000 m. \n17h : 25 km. 17h30 : 15 km. 18h30 : 10 km. \n”Le sprint des remparts ” nouvelle épreuve dès cadet !\nNouvelle épreuve d’environ 1 km avec séries\, demi-finale et finale (pour les adultes) : le Sprint des remparts. 120 participants max (60 hommes\, 60 femmes). 1er départ à 14h pour les séries. Demi-finales à 15h. Finale à 16h30. \nLa Ville de Gravelines et l’Entente Sportive Gravelinoise organisent cet événement. Inscrit au Challenge Nord Evasion. \nDécouvrez\, en nocturne\, un terrain de jeu typique de la Flandre Maritime avec les fortifications\, les espaces naturels boisés\, la vaste plage\, le cordon dunaire et le Parc de l’Aa. RdV à l’Arsenal. \nParking\, restauration\, buvette. Animations musicales avec les associations gravelinoises. Médaille. \nInscription uniquement sur prolive \nContact : https://www.facebook.com/surlestracesdeVauban.fr \n  \n  \n  \n 
URL:https://nord-pas-de-calais.1000pattes.guide/event/sur-les-traces-de-vauban-gravelines-59/
CATEGORIES:Courses de jeunes,Marche nordique et randonnée,Médaille,Trail et course nature
END:VEVENT
BEGIN:VEVENT
DTSTART;TZID=Europe/Paris:20260125T100000
DTEND;TZID=Europe/Paris:20260125T100000
DTSTAMP:20260423T190354
CREATED:20230103T195322Z
LAST-MODIFIED:20251202T084543Z
UID:10001613-1769335200-1769335200@nord-pas-de-calais.1000pattes.guide
SUMMARY:Course des anguilles - Hondschoote (59)
DESCRIPTION:Départ du 10 km à 10 h. \nVestiaires\, douches. Tombola. \nBouteille de bière offerte aux finishers. \nInscriptions sur running-club-hondschootois.fr et via Facebook.com/rchondschootois \nContact : Mickaël Waryn\, 06 84 73 18 45\, rchondschootois@gmail.com \n  \n 
URL:https://nord-pas-de-calais.1000pattes.guide/event/course-des-anguilles-hondschoote/
LOCATION:Course des anguilles\, Hondschoote\, France
CATEGORIES:Course sur route
END:VEVENT
END:VCALENDAR