BEGIN:VCALENDAR
VERSION:2.0
PRODID:-// - ECPv6.2.8.1//NONSGML v1.0//EN
CALSCALE:GREGORIAN
METHOD:PUBLISH
X-ORIGINAL-URL:https://nord-pas-de-calais.1000pattes.guide
X-WR-CALDESC:évènements pour 
REFRESH-INTERVAL;VALUE=DURATION:PT1H
X-Robots-Tag:noindex
X-PUBLISHED-TTL:PT1H
BEGIN:VTIMEZONE
TZID:Europe/Paris
BEGIN:DAYLIGHT
TZOFFSETFROM:+0100
TZOFFSETTO:+0200
TZNAME:CEST
DTSTART:20260329T010000
END:DAYLIGHT
BEGIN:STANDARD
TZOFFSETFROM:+0200
TZOFFSETTO:+0100
TZNAME:CET
DTSTART:20261025T010000
END:STANDARD
END:VTIMEZONE
BEGIN:VEVENT
DTSTART;TZID=Europe/Paris:20260503T093000
DTEND;TZID=Europe/Paris:20260503T093000
DTSTAMP:20260423T073922
CREATED:20230107T174453Z
LAST-MODIFIED:20251228T173032Z
UID:10001734-1777800600-1777800600@nord-pas-de-calais.1000pattes.guide
SUMMARY:Course de la Brouckaillère - Clairmarais (62)
DESCRIPTION:Départ du 10 km (dès cadets) à 9h30. Courses des enfants à partir de 10h45. Marche de 7 et 12 km à 9h. Rendez-vous devant l’église. Challenge CAPSO. \nVestiaires\, buvette. Bière et légume de Clairmarais offerts. \nInscription sur place et sur https://in.njuko.com/la-brouckaillere2025 \n Infos: Facebook : Clairmarais Sport Organisation \n Contact : Romain Lengagne\, 06 82 94 34 45\, clairmarais.sport.organisation@gmail.com \n  \n 
URL:https://nord-pas-de-calais.1000pattes.guide/event/course-de-la-brouckaillere/
LOCATION:Course de la Brouckaillère\, Clairmarais\, France
CATEGORIES:Course sur route,Courses de jeunes,Marche nordique et randonnée
END:VEVENT
END:VCALENDAR